BEGIN:VCALENDAR
VERSION:2.0
PRODID:-//Neil Squire Society - ECPv5.3.1.1//NONSGML v1.0//EN
CALSCALE:GREGORIAN
METHOD:PUBLISH
X-WR-CALNAME:Neil Squire Society
X-ORIGINAL-URL:https://www.neilsquire.ca
X-WR-CALDESC:Events for Neil Squire Society
BEGIN:VTIMEZONE
TZID:America/Vancouver
BEGIN:DAYLIGHT
TZOFFSETFROM:-0800
TZOFFSETTO:-0700
TZNAME:PDT
DTSTART:20190310T100000
END:DAYLIGHT
BEGIN:STANDARD
TZOFFSETFROM:-0700
TZOFFSETTO:-0800
TZNAME:PST
DTSTART:20191103T090000
END:STANDARD
END:VTIMEZONE
BEGIN:VEVENT
DTSTART;TZID=America/Vancouver:20190918T110000
DTEND;TZID=America/Vancouver:20190918T140000
DTSTAMP:20260422T101445
CREATED:20190924T193103Z
LAST-MODIFIED:20190924T193103Z
UID:19281-1568804400-1568815200@www.neilsquire.ca
SUMMARY:2019 Niagara Falls TELUS Days of Giving Build Event
DESCRIPTION:Since 2017\, Neil Squire Society’s Makers Making Change Program has worked closely with TELUS in providing a number of hands on STEM event for their employees as part of the TELUS Days of Giving program. The first two years\, the events were focused as day long build events of the LipSync. This year\, we are focusing on building low-cost access switches that would enable people with disabilities to access technology and environmental controls. \nLearn to Build an Access Switch\nOn Wednesday Sept 18\, 2019\, Makers Making Change and TELUS will be hosting a build event\, where participants will learn to build Light Touch and Raindrop accces switches from the Makers Making Change Library. The event will start at 11:00am. \nExperience in electronics and soldering is not required\, so please support your community though increasing access to technology for everyone.
URL:https://www.neilsquire.ca/event/2019-niagara-falls-telus-days-of-giving-build-event/
CATEGORIES:Buildathon,Makers Making Change
ATTACH;FMTTYPE=image/jpeg:https://www.neilsquire.ca/wp-content/uploads/2019/09/TELUS-DOG-event-2019-Vanc-Vic-1024x768.jpg
END:VEVENT
END:VCALENDAR