BEGIN:VCALENDAR
VERSION:2.0
PRODID:-//Neil Squire Society - ECPv5.3.1.1//NONSGML v1.0//EN
CALSCALE:GREGORIAN
METHOD:PUBLISH
X-WR-CALNAME:Neil Squire Society
X-ORIGINAL-URL:https://www.neilsquire.ca
X-WR-CALDESC:Events for Neil Squire Society
BEGIN:VTIMEZONE
TZID:America/Toronto
BEGIN:DAYLIGHT
TZOFFSETFROM:-0500
TZOFFSETTO:-0400
TZNAME:EDT
DTSTART:20220313T070000
END:DAYLIGHT
BEGIN:STANDARD
TZOFFSETFROM:-0400
TZOFFSETTO:-0500
TZNAME:EST
DTSTART:20221106T060000
END:STANDARD
END:VTIMEZONE
BEGIN:VEVENT
DTSTART;TZID=America/Toronto:20220917T080000
DTEND;TZID=America/Toronto:20220917T160000
DTSTAMP:20260423T134711
CREATED:20220720T211806Z
LAST-MODIFIED:20220720T211806Z
UID:25306-1663401600-1663430400@www.neilsquire.ca
SUMMARY:2022 National Assistive Technology Makers Fair
DESCRIPTION:Join us for a day-long celebration of assistive technology creativity and innovation! The AT Makers Fair brings together creators of all abilities\, ages\, and skill levels to share ideas\, develop new skills\, and explore solutions for people with disabilities. \nFeatures: \n\nNetworking with prominent leaders in the AT Makers Movement\nHands-on activities and workshops\nMake AT Café\nAT Makers Showcase\nExhibits and more!\n\nRegister at iod.unh.edu/atmakers (new window)
URL:https://www.neilsquire.ca/event/2022-national-assistive-technology-makers-fair/
LOCATION:Grappone Conference Center\, 70 Constitution Avenue\, Concord\, NH\, 03301\, United States
CATEGORIES:Community Event,Conference,Expo,Makers Making Change
ATTACH;FMTTYPE=image/jpeg:https://www.neilsquire.ca/wp-content/uploads/2022/07/atmf_banners-03.jpg
ORGANIZER;CN="Institute%20on%20Disability":MAILTO:at.makers@unh.edu
GEO:43.2179493;-71.5365078
X-APPLE-STRUCTURED-LOCATION;VALUE=URI;X-ADDRESS=Grappone Conference Center 70 Constitution Avenue Concord NH 03301 United States;X-APPLE-RADIUS=500;X-TITLE=70 Constitution Avenue:geo:-71.5365078,43.2179493
END:VEVENT
END:VCALENDAR