BEGIN:VCALENDAR
VERSION:2.0
PRODID:-//Neil Squire Society - ECPv5.3.1.1//NONSGML v1.0//EN
CALSCALE:GREGORIAN
METHOD:PUBLISH
X-WR-CALNAME:Neil Squire Society
X-ORIGINAL-URL:https://www.neilsquire.ca
X-WR-CALDESC:Events for Neil Squire Society
BEGIN:VTIMEZONE
TZID:America/Vancouver
BEGIN:DAYLIGHT
TZOFFSETFROM:-0800
TZOFFSETTO:-0700
TZNAME:PDT
DTSTART:20230312T100000
END:DAYLIGHT
BEGIN:STANDARD
TZOFFSETFROM:-0700
TZOFFSETTO:-0800
TZNAME:PST
DTSTART:20231105T090000
END:STANDARD
END:VTIMEZONE
BEGIN:VEVENT
DTSTART;VALUE=DATE:20230313
DTEND;VALUE=DATE:20230318
DTSTAMP:20260423T183907
CREATED:20230308T180218Z
LAST-MODIFIED:20230308T180218Z
UID:26437-1678665600-1679097599@www.neilsquire.ca
SUMMARY:38th Annual CSUN Assistive Technology Conference
DESCRIPTION:The CSUN Assistive Technology Conference\, also known as the CSUN Conference\, is the ultimate community experience and the premier forum on technology for all persons with disabilities.  For over 37 years\, California State University\, Northridge’s Center on Disabilities has sponsored the conference\, providing a platform for researchers\, practitioners\, educators\, exhibitors and more from around the world\, where they can share knowledge\, innovations\, and best practices to promote inclusion for all. \nRepresentatives from various Neil Squire programs including Makers Making Change and Solutions will be in attendance. Director of Innovation Chad Leaman will be presenting (new window) on Makers Making Change and DIY AT.
URL:https://www.neilsquire.ca/event/38th-annual-csun-assistive-technology-conference/
LOCATION:Anaheim Marriott\, 700 W Convention Way\, Anaheim\, CA\, 92802\, United States
CATEGORIES:Conference,Makers Making Change,Solutions
ATTACH;FMTTYPE=image/jpeg:https://www.neilsquire.ca/wp-content/uploads/2017/02/C445XEZVcAEhrTW.jpg
END:VEVENT
END:VCALENDAR