BEGIN:VCALENDAR
VERSION:2.0
PRODID:-//Neil Squire Society - ECPv5.3.1.1//NONSGML v1.0//EN
CALSCALE:GREGORIAN
METHOD:PUBLISH
X-WR-CALNAME:Neil Squire Society
X-ORIGINAL-URL:https://www.neilsquire.ca
X-WR-CALDESC:Events for Neil Squire Society
BEGIN:VTIMEZONE
TZID:America/Toronto
BEGIN:DAYLIGHT
TZOFFSETFROM:-0500
TZOFFSETTO:-0400
TZNAME:EDT
DTSTART:20220313T070000
END:DAYLIGHT
BEGIN:STANDARD
TZOFFSETFROM:-0400
TZOFFSETTO:-0500
TZNAME:EST
DTSTART:20221106T060000
END:STANDARD
END:VTIMEZONE
BEGIN:VEVENT
DTSTART;TZID=America/Toronto:20220513T100000
DTEND;TZID=America/Toronto:20220514T170000
DTSTAMP:20260423T201223
CREATED:20220510T155444Z
LAST-MODIFIED:20220510T161424Z
UID:24918-1652436000-1652547600@www.neilsquire.ca
SUMMARY:Abilities Expo – Toronto
DESCRIPTION:Makers Making Change will be at the Abilities Expo in Toronto\, Ontario! Drop by booth #525 and chat about Makers Making Change\, try out some devices\, see a 3D printing in action and learn about how you can get involved! Registration is free for attendees. For more information\, please visit: https://abilitiesexpotoronto.com/registration/ (new window)
URL:https://www.neilsquire.ca/event/abilities-expo-toronto-3/
LOCATION:International Centre\, Hall 5\, 6900 Airport Road\, Mississauga\, Ontario\, L4V 1E8\, Canada
CATEGORIES:Expo
ATTACH;FMTTYPE=image/png:https://www.neilsquire.ca/wp-content/uploads/2022/05/abilities-expo.png
END:VEVENT
END:VCALENDAR