BEGIN:VCALENDAR
VERSION:2.0
PRODID:-//Neil Squire Society - ECPv5.3.1.1//NONSGML v1.0//EN
CALSCALE:GREGORIAN
METHOD:PUBLISH
X-WR-CALNAME:Neil Squire Society
X-ORIGINAL-URL:https://www.neilsquire.ca
X-WR-CALDESC:Events for Neil Squire Society
BEGIN:VTIMEZONE
TZID:America/Vancouver
BEGIN:DAYLIGHT
TZOFFSETFROM:-0800
TZOFFSETTO:-0700
TZNAME:PDT
DTSTART:20190310T100000
END:DAYLIGHT
BEGIN:STANDARD
TZOFFSETFROM:-0700
TZOFFSETTO:-0800
TZNAME:PST
DTSTART:20191103T090000
END:STANDARD
END:VTIMEZONE
BEGIN:VEVENT
DTSTART;TZID=America/Vancouver:20190405T110000
DTEND;TZID=America/Vancouver:20190407T170000
DTSTAMP:20260423T180233
CREATED:20190213T222918Z
LAST-MODIFIED:20190228T164029Z
UID:18121-1554462000-1554656400@www.neilsquire.ca
SUMMARY:Abilities Expo Toronto
DESCRIPTION:For nearly 40 years\, Abilities Expo has been the go-to source for the Community of people with disabilities\, their families\, seniors\, veterans and healthcare professionals. Every event opens your eyes to new technologies\, new possibilities\, new solutions and new opportunities to change your life. \nWhere else can you discover ability-enhancing products and services\, play a few adaptive sports\, learn new dance moves\, attend informative workshops and only scratch the surface of what Abilities Expo has to offer? Register for free today. \n 
URL:https://www.neilsquire.ca/event/abilities-expo-toronto/
LOCATION:International Centre\, 6900 Airport Road\, Hall 5\, Mississauga\, Ontario\, L4V 1E8\, Canada
CATEGORIES:Expo
ATTACH;FMTTYPE=image/png:https://www.neilsquire.ca/wp-content/uploads/2019/02/AET19_Ad_300x250.png
END:VEVENT
END:VCALENDAR