BEGIN:VCALENDAR
VERSION:2.0
PRODID:-//Neil Squire Society - ECPv5.3.1.1//NONSGML v1.0//EN
CALSCALE:GREGORIAN
METHOD:PUBLISH
X-WR-CALNAME:Neil Squire Society
X-ORIGINAL-URL:https://www.neilsquire.ca
X-WR-CALDESC:Events for Neil Squire Society
BEGIN:VTIMEZONE
TZID:America/Vancouver
BEGIN:DAYLIGHT
TZOFFSETFROM:-0800
TZOFFSETTO:-0700
TZNAME:PDT
DTSTART:20200308T100000
END:DAYLIGHT
BEGIN:STANDARD
TZOFFSETFROM:-0700
TZOFFSETTO:-0800
TZNAME:PST
DTSTART:20201101T090000
END:STANDARD
END:VTIMEZONE
BEGIN:VEVENT
DTSTART;TZID=America/Vancouver:20200319T080000
DTEND;TZID=America/Vancouver:20200319T170000
DTSTAMP:20260424T193102
CREATED:20200210T193830Z
LAST-MODIFIED:20240814T175134Z
UID:20481-1584604800-1584637200@www.neilsquire.ca
SUMMARY:Ability New Brunswick Peer Event
DESCRIPTION:Our AT Help Desk staff will be at the Ability New Brunswick peer event in Fredericton.
URL:https://www.neilsquire.ca/event/ability-new-brunswick-peer-event/
CATEGORIES:Community Event
END:VEVENT
END:VCALENDAR