BEGIN:VCALENDAR
VERSION:2.0
PRODID:-//Neil Squire Society - ECPv5.3.1.1//NONSGML v1.0//EN
CALSCALE:GREGORIAN
METHOD:PUBLISH
X-WR-CALNAME:Neil Squire Society
X-ORIGINAL-URL:https://www.neilsquire.ca
X-WR-CALDESC:Events for Neil Squire Society
BEGIN:VTIMEZONE
TZID:America/Vancouver
BEGIN:DAYLIGHT
TZOFFSETFROM:-0800
TZOFFSETTO:-0700
TZNAME:PDT
DTSTART:20200308T100000
END:DAYLIGHT
BEGIN:STANDARD
TZOFFSETFROM:-0700
TZOFFSETTO:-0800
TZNAME:PST
DTSTART:20201101T090000
END:STANDARD
END:VTIMEZONE
BEGIN:VEVENT
DTSTART;TZID=America/Vancouver:20201202T160000
DTEND;TZID=America/Vancouver:20201202T170000
DTSTAMP:20260419T193736
CREATED:20201123T190422Z
LAST-MODIFIED:20201123T190422Z
UID:22945-1606924800-1606928400@www.neilsquire.ca
SUMMARY:Accessible Features on Everyday Devices
DESCRIPTION:sJoin Neil Squire to learn about accessible features in our everyday devices that can help us get the most out of them! \nAfter registering\, you will receive a confirmation email containing information about joining the meeting. \nCall in number: 778 907 2071. Call in ID: 823 3790 7559 \nIf you have any questions please contact the SCI BC InfoLine at 1-800-689-2477 or info@sci-bc.ca.
URL:https://www.neilsquire.ca/event/accessible-features-on-everyday-devices/
CATEGORIES:Webinar
ATTACH;FMTTYPE=image/png:https://www.neilsquire.ca/wp-content/uploads/2020/11/virtual-peer-sessions_2020.png
END:VEVENT
END:VCALENDAR