BEGIN:VCALENDAR
VERSION:2.0
PRODID:-//Neil Squire Society - ECPv5.3.1.1//NONSGML v1.0//EN
CALSCALE:GREGORIAN
METHOD:PUBLISH
X-WR-CALNAME:Neil Squire Society
X-ORIGINAL-URL:https://www.neilsquire.ca
X-WR-CALDESC:Events for Neil Squire Society
BEGIN:VTIMEZONE
TZID:America/Vancouver
BEGIN:DAYLIGHT
TZOFFSETFROM:-0800
TZOFFSETTO:-0700
TZNAME:PDT
DTSTART:20210314T100000
END:DAYLIGHT
BEGIN:STANDARD
TZOFFSETFROM:-0700
TZOFFSETTO:-0800
TZNAME:PST
DTSTART:20211107T090000
END:STANDARD
END:VTIMEZONE
BEGIN:VEVENT
DTSTART;VALUE=DATE:20210726
DTEND;VALUE=DATE:20210826
DTSTAMP:20260420T065539
CREATED:20210726T160452Z
LAST-MODIFIED:20210726T160452Z
UID:24012-1627257600-1629935999@www.neilsquire.ca
SUMMARY:Adaptive Amazing Race 2021\, Vernon
DESCRIPTION:
URL:https://www.neilsquire.ca/event/adaptive-amazing-race-2021-vernon/
LOCATION:Polson Park\, Vernon\, Vernon\, BC\, Canada
CATEGORIES:Community Event
ORGANIZER;CN="Community%20RecreationalInitiatives%20Society%20%28CRIS%29":MAILTO:atadmin@adaptiveadventures.ca
END:VEVENT
END:VCALENDAR