BEGIN:VCALENDAR
VERSION:2.0
PRODID:-//Neil Squire Society - ECPv5.3.1.1//NONSGML v1.0//EN
CALSCALE:GREGORIAN
METHOD:PUBLISH
X-WR-CALNAME:Neil Squire Society
X-ORIGINAL-URL:https://www.neilsquire.ca
X-WR-CALDESC:Events for Neil Squire Society
BEGIN:VTIMEZONE
TZID:America/Winnipeg
BEGIN:DAYLIGHT
TZOFFSETFROM:-0600
TZOFFSETTO:-0500
TZNAME:CDT
DTSTART:20240310T080000
END:DAYLIGHT
BEGIN:STANDARD
TZOFFSETFROM:-0500
TZOFFSETTO:-0600
TZNAME:CST
DTSTART:20241103T070000
END:STANDARD
END:VTIMEZONE
BEGIN:VEVENT
DTSTART;TZID=America/Winnipeg:20240627T170000
DTEND;TZID=America/Winnipeg:20240627T200000
DTSTAMP:20260424T112538
CREATED:20240603T162308Z
LAST-MODIFIED:20240612T160903Z
UID:28851-1719507600-1719518400@www.neilsquire.ca
SUMMARY:Adaptive Gaming Open House
DESCRIPTION:Join us at the newly launched GAME Checkpoint space at the Movement Centre of Manitoba! \nThis event is brought to you by the Movement Centre of Manitoba and Neil Squire’s Makers Making Change program. \nDon’t miss this evening of learning\, fun\, and hands-on experience with the latest in adaptive gaming technology! \nMakers Making Change connects makers to people with disabilities to create low cost\, open-source assistive devices. By fostering collaboration and innovation\, they empower communities to enhance accessibility and improve lives. \nEvent Details: \nWho: Persons with disabilities interested in gaming\, clinicians\, families\, and the general public \nWhat: Showcase of adaptive video gaming gear and resources \nWhere: 1646 Henderson Hwy\, Winnipeg\, MB R2G 1N7 \nWhen: Thursday\, June 27\, 5 PM – 8 PM \nEvent Highlights: \n\nLearn about the adaptive gaming work the Movement Centre of Manitoba and Makers Making Change are doing in adaptive gaming\nExplore a variety of adaptive gaming gear\nLearn about accessibility options in video games\nAccess to valuable adaptive gaming resources\nEnjoy complimentary snacks and non-alcoholic beverages\n\nFor more information\, email: tylerf@neilsquire.ca \nRSVP now to secure your spot!
URL:https://www.neilsquire.ca/event/adaptive-gaming-open-house/
LOCATION:Movement Centre of Manitoba\, 1646 Henderson Hwy\, Winnipeg\, MB\, R2G 1N7\, Canada
CATEGORIES:Community Event,Makers Making Change,Open House
ATTACH;FMTTYPE=image/png:https://www.neilsquire.ca/wp-content/uploads/2024/06/41-Open-House-Thumbnial-1280-x-320-px-1280-x-720-px.png
END:VEVENT
END:VCALENDAR