BEGIN:VCALENDAR
VERSION:2.0
PRODID:-//Neil Squire Society - ECPv5.3.1.1//NONSGML v1.0//EN
CALSCALE:GREGORIAN
METHOD:PUBLISH
X-WR-CALNAME:Neil Squire Society
X-ORIGINAL-URL:https://www.neilsquire.ca
X-WR-CALDESC:Events for Neil Squire Society
BEGIN:VTIMEZONE
TZID:America/Toronto
BEGIN:DAYLIGHT
TZOFFSETFROM:-0500
TZOFFSETTO:-0400
TZNAME:EDT
DTSTART:20190310T070000
END:DAYLIGHT
BEGIN:STANDARD
TZOFFSETFROM:-0400
TZOFFSETTO:-0500
TZNAME:EST
DTSTART:20191103T060000
END:STANDARD
END:VTIMEZONE
BEGIN:VEVENT
DTSTART;TZID=America/Toronto:20190921T080000
DTEND;TZID=America/Toronto:20190921T170000
DTSTAMP:20260422T115004
CREATED:20190924T193310Z
LAST-MODIFIED:20190924T193310Z
UID:19284-1569052800-1569085200@www.neilsquire.ca
SUMMARY:Association of Science-Technology Centres Conference for 2019
DESCRIPTION:Toronto Regional Coordinator Stewart Russell will be an exhibiting maker at an expo run by Ontario Science Center in collaboration with SteamLabs at the 2019 ASTC Annual Conference on September 21 in Toronto\, ON. Registration for the event includes workshops\, exhibitions\, and a chance to hear guest speakers. Here is the complete schedule.
URL:https://www.neilsquire.ca/event/association-of-science-technology-centres-conference-for-2019/
LOCATION:Ontario Science Centre\, 770 Don Mills Road\, Toronto\, ON\, M3C 1T3\, Canada
CATEGORIES:Conference,Expo,Makers Making Change
ATTACH;FMTTYPE=image/jpeg:https://www.neilsquire.ca/wp-content/uploads/2019/09/ASTC2019-600.jpg
END:VEVENT
END:VCALENDAR