BEGIN:VCALENDAR
VERSION:2.0
PRODID:-//Neil Squire Society - ECPv5.3.1.1//NONSGML v1.0//EN
CALSCALE:GREGORIAN
METHOD:PUBLISH
X-WR-CALNAME:Neil Squire Society
X-ORIGINAL-URL:https://www.neilsquire.ca
X-WR-CALDESC:Events for Neil Squire Society
BEGIN:VTIMEZONE
TZID:America/Vancouver
BEGIN:DAYLIGHT
TZOFFSETFROM:-0800
TZOFFSETTO:-0700
TZNAME:PDT
DTSTART:20180311T100000
END:DAYLIGHT
BEGIN:STANDARD
TZOFFSETFROM:-0700
TZOFFSETTO:-0800
TZNAME:PST
DTSTART:20181104T090000
END:STANDARD
END:VTIMEZONE
BEGIN:VEVENT
DTSTART;VALUE=DATE:20180626
DTEND;VALUE=DATE:20180629
DTSTAMP:20260419T054605
CREATED:20180621T161630Z
LAST-MODIFIED:20180627T173617Z
UID:16344-1529971200-1530230399@www.neilsquire.ca
SUMMARY:BC Career Development Association Training
DESCRIPTION:Neil Squire Society employment staff will be attending a special three day course put on by the BC Career Development Association so they can secure their Certified Career Development Practitioner certification. \nRead more about the course on the BC Career Development Association’s website (new window).
URL:https://www.neilsquire.ca/event/bc-career-development-association-training/
CATEGORIES:Training and Certification
ATTACH;FMTTYPE=image/jpeg:https://www.neilsquire.ca/wp-content/uploads/2018/06/BCCDA-Logo-SMALL.jpg
END:VEVENT
END:VCALENDAR