BEGIN:VCALENDAR
VERSION:2.0
PRODID:-//Neil Squire Society - ECPv5.3.1.1//NONSGML v1.0//EN
CALSCALE:GREGORIAN
METHOD:PUBLISH
X-WR-CALNAME:Neil Squire Society
X-ORIGINAL-URL:https://www.neilsquire.ca
X-WR-CALDESC:Events for Neil Squire Society
BEGIN:VTIMEZONE
TZID:America/Edmonton
BEGIN:DAYLIGHT
TZOFFSETFROM:-0700
TZOFFSETTO:-0600
TZNAME:MDT
DTSTART:20240310T090000
END:DAYLIGHT
BEGIN:STANDARD
TZOFFSETFROM:-0600
TZOFFSETTO:-0700
TZNAME:MST
DTSTART:20241103T080000
END:STANDARD
END:VTIMEZONE
BEGIN:VEVENT
DTSTART;TZID=America/Edmonton:20240314T140000
DTEND;TZID=America/Edmonton:20240314T150000
DTSTAMP:20260419T085711
CREATED:20240305T172550Z
LAST-MODIFIED:20240308T221713Z
UID:28293-1710424800-1710428400@www.neilsquire.ca
SUMMARY:BME 553 Class - Makers Making Change Info Session and Build
DESCRIPTION:The University of Alberta BME 553 class focuses on Rehabilitative Biomedical Engineering. This class will explore how Makers Making Change can be a resource for their future careers and to learn the basics of creating adaptive switches and other assistive tech. \nAccording to Statistics Canada\, 80% of people living with a disability use an assistive device to increase their independence\, and 27% need at least one more. Cost is often cited as the main barrier. \nIn partnership with the Makers Making Change program of Neil Squire.
URL:https://www.neilsquire.ca/event/bme-553-class-makers-making-change-info-session-and-build/
CATEGORIES:Buildathon,Makers Making Change,Presentation
ATTACH;FMTTYPE=image/png:https://www.neilsquire.ca/wp-content/uploads/2024/03/BME-553-build-1.png
END:VEVENT
END:VCALENDAR