BEGIN:VCALENDAR
VERSION:2.0
PRODID:-//Neil Squire Society - ECPv5.3.1.1//NONSGML v1.0//EN
CALSCALE:GREGORIAN
METHOD:PUBLISH
X-WR-CALNAME:Neil Squire Society
X-ORIGINAL-URL:https://www.neilsquire.ca
X-WR-CALDESC:Events for Neil Squire Society
BEGIN:VTIMEZONE
TZID:America/Vancouver
BEGIN:DAYLIGHT
TZOFFSETFROM:-0800
TZOFFSETTO:-0700
TZNAME:PDT
DTSTART:20230312T100000
END:DAYLIGHT
BEGIN:STANDARD
TZOFFSETFROM:-0700
TZOFFSETTO:-0800
TZNAME:PST
DTSTART:20231105T090000
END:STANDARD
END:VTIMEZONE
BEGIN:VEVENT
DTSTART;TZID=America/Vancouver:20230311T100000
DTEND;TZID=America/Vancouver:20230311T120000
DTSTAMP:20260423T201249
CREATED:20230228T172035Z
LAST-MODIFIED:20230228T172035Z
UID:26398-1678528800-1678536000@www.neilsquire.ca
SUMMARY:CAGIS Vancouver Switch Build
DESCRIPTION:Makers Making Change is excited to build switches and adapt toys with CAGIS Vancouver members. \nParticipants will learn about assistive technology and Makers Making Change and then get to try out some hands on skills like soldering!
URL:https://www.neilsquire.ca/event/cagis-vancouver-switch-build/
CATEGORIES:Buildathon,Community Event,Makers Making Change
ATTACH;FMTTYPE=image/png:https://www.neilsquire.ca/wp-content/uploads/2023/02/MMC-Event-Banner-25.png
END:VEVENT
END:VCALENDAR