BEGIN:VCALENDAR
VERSION:2.0
PRODID:-//Neil Squire Society - ECPv5.3.1.1//NONSGML v1.0//EN
CALSCALE:GREGORIAN
METHOD:PUBLISH
X-WR-CALNAME:Neil Squire Society
X-ORIGINAL-URL:https://www.neilsquire.ca
X-WR-CALDESC:Events for Neil Squire Society
BEGIN:VTIMEZONE
TZID:America/Edmonton
BEGIN:DAYLIGHT
TZOFFSETFROM:-0700
TZOFFSETTO:-0600
TZNAME:MDT
DTSTART:20220313T090000
END:DAYLIGHT
BEGIN:STANDARD
TZOFFSETFROM:-0600
TZOFFSETTO:-0700
TZNAME:MST
DTSTART:20221106T080000
END:STANDARD
END:VTIMEZONE
BEGIN:VEVENT
DTSTART;TZID=America/Edmonton:20220514T100000
DTEND;TZID=America/Edmonton:20220515T170000
DTSTAMP:20260423T201350
CREATED:20220505T160428Z
LAST-MODIFIED:20220505T161519Z
UID:24894-1652522400-1652634000@www.neilsquire.ca
SUMMARY:Calgary Maker Faire 2022
DESCRIPTION:Join the Makers Making Change Alberta staff at the 2022 Calgary Maker Faire. Details of the event can be found at this link: https://calgary.makerfaire.com/ (new window)
URL:https://www.neilsquire.ca/event/calgary-maker-faire-2022/
LOCATION:BMO Centre\, 20 Roundup Way SE\, Calgary\, Alberta\, T2G 2W1\, Canada
CATEGORIES:Community Event,Makers Making Change
ATTACH;FMTTYPE=image/png:https://www.neilsquire.ca/wp-content/uploads/2022/05/MF_Calgary_2022-Logo_stacked_logo.png
END:VEVENT
END:VCALENDAR