BEGIN:VCALENDAR
VERSION:2.0
PRODID:-//Neil Squire Society - ECPv5.3.1.1//NONSGML v1.0//EN
CALSCALE:GREGORIAN
METHOD:PUBLISH
X-WR-CALNAME:Neil Squire Society
X-ORIGINAL-URL:https://www.neilsquire.ca
X-WR-CALDESC:Events for Neil Squire Society
BEGIN:VTIMEZONE
TZID:America/Edmonton
BEGIN:DAYLIGHT
TZOFFSETFROM:-0700
TZOFFSETTO:-0600
TZNAME:MDT
DTSTART:20230312T090000
END:DAYLIGHT
BEGIN:STANDARD
TZOFFSETFROM:-0600
TZOFFSETTO:-0700
TZNAME:MST
DTSTART:20231105T080000
END:STANDARD
END:VTIMEZONE
BEGIN:VEVENT
DTSTART;TZID=America/Edmonton:20230323T180000
DTEND;TZID=America/Edmonton:20230323T200000
DTSTAMP:20260424T075304
CREATED:20230215T175039Z
LAST-MODIFIED:20230215T175039Z
UID:26301-1679594400-1679601600@www.neilsquire.ca
SUMMARY:Clubs That Care: Agility Program
DESCRIPTION:On March 23\, the University of Lethbridge will be adapting toys for people with disabilities. Every device will be donated to local disability organizations and rehab hospitals as part of our Clubs That Care program (new window). \nThis is a closed event for the University of Lethbridge students only.
URL:https://www.neilsquire.ca/event/clubs-that-care-agility-program/
CATEGORIES:Buildathon,Makers Making Change
ATTACH;FMTTYPE=image/png:https://www.neilsquire.ca/wp-content/uploads/2023/02/MMC-Event-Banner-17.png
END:VEVENT
END:VCALENDAR