BEGIN:VCALENDAR
VERSION:2.0
PRODID:-//Neil Squire Society - ECPv5.3.1.1//NONSGML v1.0//EN
CALSCALE:GREGORIAN
METHOD:PUBLISH
X-WR-CALNAME:Neil Squire Society
X-ORIGINAL-URL:https://www.neilsquire.ca
X-WR-CALDESC:Events for Neil Squire Society
BEGIN:VTIMEZONE
TZID:America/Vancouver
BEGIN:DAYLIGHT
TZOFFSETFROM:-0800
TZOFFSETTO:-0700
TZNAME:PDT
DTSTART:20230312T100000
END:DAYLIGHT
BEGIN:STANDARD
TZOFFSETFROM:-0700
TZOFFSETTO:-0800
TZNAME:PST
DTSTART:20231105T090000
END:STANDARD
END:VTIMEZONE
BEGIN:VEVENT
DTSTART;TZID=America/Vancouver:20231102T080000
DTEND;TZID=America/Vancouver:20231102T170000
DTSTAMP:20260425T131659
CREATED:20231026T165321Z
LAST-MODIFIED:20231026T165321Z
UID:27691-1698912000-1698944400@www.neilsquire.ca
SUMMARY:Community4Connection Resource Event
DESCRIPTION:Our Prairie regional staff will be at the Community4Connection Resource Event on November 2nd.
URL:https://www.neilsquire.ca/event/community4connection-resource-event/
CATEGORIES:Community Event
ATTACH;FMTTYPE=image/png:https://www.neilsquire.ca/wp-content/uploads/2023/10/regina-city.png
END:VEVENT
END:VCALENDAR