BEGIN:VCALENDAR
VERSION:2.0
PRODID:-//Neil Squire Society - ECPv5.3.1.1//NONSGML v1.0//EN
CALSCALE:GREGORIAN
METHOD:PUBLISH
X-WR-CALNAME:Neil Squire Society
X-ORIGINAL-URL:https://www.neilsquire.ca
X-WR-CALDESC:Events for Neil Squire Society
BEGIN:VTIMEZONE
TZID:America/Vancouver
BEGIN:DAYLIGHT
TZOFFSETFROM:-0800
TZOFFSETTO:-0700
TZNAME:PDT
DTSTART:20210314T100000
END:DAYLIGHT
BEGIN:STANDARD
TZOFFSETFROM:-0700
TZOFFSETTO:-0800
TZNAME:PST
DTSTART:20211107T090000
END:STANDARD
END:VTIMEZONE
BEGIN:VEVENT
DTSTART;TZID=America/Vancouver:20210610T083000
DTEND;TZID=America/Vancouver:20210610T143000
DTSTAMP:20260424T014705
CREATED:20210608T212041Z
LAST-MODIFIED:20210608T212041Z
UID:23890-1623313800-1623335400@www.neilsquire.ca
SUMMARY:Compensation Strategy Symposium & Showcase
DESCRIPTION:The global pandemic has affected many aspects of traditional HR structures\, including one of the most important\, our compensation strategies. HR leaders assert that workplace remuneration has become increasingly more complex\, as employers are forced to reconfigure their current pay strategies. How should we think about compensating employees while considering the full context of the pandemic\, both now and through its later stages\, all while redesigning approaches to compensation?  \nBe part of the conversation and hear from expert speakers sharing information and knowledge. Carefully chosen partners organizations will be there to showcase their products and services in effort to help us navigate successfully through the months to come. \nThe event includes: \n\n3 Keynote Speaker Sessions\nVirtual Exhibit Hall – interact in real time with the experts!\nNetworking Opportunities\nScavenger Hunt and Prizes
URL:https://www.neilsquire.ca/event/compensation-strategy-symposium-showcase/
CATEGORIES:Expo
ATTACH;FMTTYPE=image/png:https://www.neilsquire.ca/wp-content/uploads/2021/06/CPHR-BC-Yukon.png
END:VEVENT
END:VCALENDAR