BEGIN:VCALENDAR
VERSION:2.0
PRODID:-//Neil Squire Society - ECPv5.3.1.1//NONSGML v1.0//EN
CALSCALE:GREGORIAN
METHOD:PUBLISH
X-WR-CALNAME:Neil Squire Society
X-ORIGINAL-URL:https://www.neilsquire.ca
X-WR-CALDESC:Events for Neil Squire Society
BEGIN:VTIMEZONE
TZID:America/Vancouver
BEGIN:DAYLIGHT
TZOFFSETFROM:-0800
TZOFFSETTO:-0700
TZNAME:PDT
DTSTART:20230312T100000
END:DAYLIGHT
BEGIN:STANDARD
TZOFFSETFROM:-0700
TZOFFSETTO:-0800
TZNAME:PST
DTSTART:20231105T090000
END:STANDARD
END:VTIMEZONE
BEGIN:VEVENT
DTSTART;VALUE=DATE:20231108
DTEND;VALUE=DATE:20231109
DTSTAMP:20260425T203350
CREATED:20231027T221642Z
LAST-MODIFIED:20231027T221642Z
UID:27740-1699401600-1699487999@www.neilsquire.ca
SUMMARY:Connecting the Dots 2023 Vancouver
DESCRIPTION:We’ll be at the Vancouver date for Connecting the Dots 2023\, CNIB’s education\, employment\, and employment conference.\nJoin us at Connecting the Dots to: \n\nlearn more about current trends\, research\, and innovations in the sight loss community at thought-provoking workshops and informative panel discussions;\nmeet a community of experts\, academics\, employers\, and entrepreneurs from diverse organizations and institutions;\nexperience the latest advancements in accessible and assistive technology at workshops and exhibitor booths;\nlearn more about programs\, services\, and resources for people with a connection to blindness;\nconnect with braille transcribers and producers\, and specialists to discuss and share all things braille;\nexplore opportunities with Come to Work\, an innovative program connecting job seekers who are blind or partially sighted with employers who want to discover the full potential of Canada’s talent;\naccess resources and discover tools that empower people who are blind or partially sighted to live life on their own terms\, independently;\nand\, learn more about recruiting employees with sight loss and how to become an accessible and inclusive employer.\n\nThe in-person events in Vancouver\, Toronto and Quebec\, will allow attendees to: \n\nEnjoy a unique networking event with fantastic food and beverage pairings\, engaging speakers\, and connect with others in our community.\nExperience the latest advancements in accessible and assistive technology at workshops and exhibitor booths – live and in person Finalized program details will be available closer to the conference date.
URL:https://www.neilsquire.ca/event/connecting-the-dots-2023-vancouver/
LOCATION:KPMG Vancouver\, 777 Dunsmuir St\, Vancouver\, BC\, Canada
CATEGORIES:Career Fair,Community Event,Creative Employment Options,WorkBC ATS
ATTACH;FMTTYPE=image/jpeg:https://www.neilsquire.ca/wp-content/uploads/2023/10/CTD-Banner-Rev-ENG.jpg
ORGANIZER;CN="CNIB%20Foundation":MAILTO:cnib.ca
END:VEVENT
END:VCALENDAR