BEGIN:VCALENDAR
VERSION:2.0
PRODID:-//Neil Squire Society - ECPv5.3.1.1//NONSGML v1.0//EN
CALSCALE:GREGORIAN
METHOD:PUBLISH
X-WR-CALNAME:Neil Squire Society
X-ORIGINAL-URL:https://www.neilsquire.ca
X-WR-CALDESC:Events for Neil Squire Society
BEGIN:VTIMEZONE
TZID:America/Halifax
BEGIN:DAYLIGHT
TZOFFSETFROM:-0400
TZOFFSETTO:-0300
TZNAME:ADT
DTSTART:20220313T060000
END:DAYLIGHT
BEGIN:STANDARD
TZOFFSETFROM:-0300
TZOFFSETTO:-0400
TZNAME:AST
DTSTART:20221106T050000
END:STANDARD
END:VTIMEZONE
BEGIN:VEVENT
DTSTART;TZID=America/Halifax:20220601T100000
DTEND;TZID=America/Halifax:20220601T110000
DTSTAMP:20260419T144745
CREATED:20220517T195824Z
LAST-MODIFIED:20220518T151450Z
UID:24980-1654077600-1654081200@www.neilsquire.ca
SUMMARY:Disability Awareness Week Virtual Live Event with Special Guest Speaker Casey Perrin
DESCRIPTION:Join us LIVE on June 1st for a virtual event with special guest speaker: Casey Perrin \nCasey Perrin’s home is in Halifax\, Nova Scotia where she lives her life with gratitude and lots of stamina. She is an accomplished para-athlete\, traveler and respected student\, being chosen as her university Valedictorian in 2019. An ATV accident in 2011 had a huge impact on Casey’s life. With both a spinal injury and a brain injury\, she had a long journey to recovery. Learning to live a new life\, using a wheelchair\, provided Casey with new insight\, new ambitions and new challenges. She will share the importance of attitude\, kindness\, perseverance and ways everyone can be a difference maker in creating a more inclusive and accessible world.\nPlease note that this presentation will be in English with ASL interpretation. \nREGISTER TO ATTEND: https://bit.ly/VirtualDAWNB2022 \nPre-Registration Required
URL:https://www.neilsquire.ca/event/disability-awareness-week-virtual-live-event-with-special-guest-speaker-casey-perrin/
ATTACH;FMTTYPE=image/jpeg:https://www.neilsquire.ca/wp-content/uploads/2022/05/DAW-Social-Media-Event-Casey-Perrin-EN-scaled.jpg
END:VEVENT
END:VCALENDAR