BEGIN:VCALENDAR
VERSION:2.0
PRODID:-//Neil Squire Society - ECPv5.3.1.1//NONSGML v1.0//EN
CALSCALE:GREGORIAN
METHOD:PUBLISH
X-WR-CALNAME:Neil Squire Society
X-ORIGINAL-URL:https://www.neilsquire.ca
X-WR-CALDESC:Events for Neil Squire Society
BEGIN:VTIMEZONE
TZID:America/Vancouver
BEGIN:DAYLIGHT
TZOFFSETFROM:-0800
TZOFFSETTO:-0700
TZNAME:PDT
DTSTART:20230312T100000
END:DAYLIGHT
BEGIN:STANDARD
TZOFFSETFROM:-0700
TZOFFSETTO:-0800
TZNAME:PST
DTSTART:20231105T090000
END:STANDARD
END:VTIMEZONE
BEGIN:VEVENT
DTSTART;TZID=America/Vancouver:20231108T150000
DTEND;TZID=America/Vancouver:20231108T170000
DTSTAMP:20260425T205720
CREATED:20231106T183128Z
LAST-MODIFIED:20231106T183446Z
UID:27773-1699455600-1699462800@www.neilsquire.ca
SUMMARY:EA Switch Build
DESCRIPTION:Makers Making Change presents an exclusive switch build event at Electronic Arts Vancouver. We’ll be hosting an engaging experience where you can create your own assistive switch for the Hacking for the Holidays campaign and learn about Neil Squire’s Makers Making Change program. \nThis event is invite-only.
URL:https://www.neilsquire.ca/event/ea-switch-build/
CATEGORIES:Buildathon,Makers Making Change
ATTACH;FMTTYPE=image/jpeg:https://www.neilsquire.ca/wp-content/uploads/2023/10/Full-Circle-volunteers-at-the-Makers-Making-Change-Build-Event-scaled.jpg
END:VEVENT
END:VCALENDAR