BEGIN:VCALENDAR
VERSION:2.0
PRODID:-//Neil Squire Society - ECPv5.3.1.1//NONSGML v1.0//EN
CALSCALE:GREGORIAN
METHOD:PUBLISH
X-WR-CALNAME:Neil Squire Society
X-ORIGINAL-URL:https://www.neilsquire.ca
X-WR-CALDESC:Events for Neil Squire Society
BEGIN:VTIMEZONE
TZID:America/Vancouver
BEGIN:DAYLIGHT
TZOFFSETFROM:-0800
TZOFFSETTO:-0700
TZNAME:PDT
DTSTART:20190310T100000
END:DAYLIGHT
BEGIN:STANDARD
TZOFFSETFROM:-0700
TZOFFSETTO:-0800
TZNAME:PST
DTSTART:20191103T090000
END:STANDARD
END:VTIMEZONE
BEGIN:VEVENT
DTSTART;TZID=America/Vancouver:20190414T100000
DTEND;TZID=America/Vancouver:20190414T120000
DTSTAMP:20260421T052511
CREATED:20190328T224349Z
LAST-MODIFIED:20190328T224349Z
UID:18334-1555236000-1555243200@www.neilsquire.ca
SUMMARY:Empower2Make - RSVP Public Presentations & Closing Ceremony
DESCRIPTION:This signup is for the PUBLIC PRESENTATIONS & CLOSING CEREMONY of the Empower2Make 72 Hour Make-A-Thon for Assistive Technology. \nFrom April 12th to 14th\, 2019 teams of elite designers\, innovators\, entrepreneurs and individuals with special needs will converge at Nova Labs. They will form teams of “Makers” working along side “Knowers”. Together\, over the course of 72 hours\, the teams will develop affordable solutions to specific challenges in Assistive Technology which will result in working prototypes. Our goal is to work with partner companies to reproduce these products and make them available the world over\, open source and free of charge. \n10:00 AM: Opening Ceremony\n10:15 AM : Ken Plum\, Virginia House of Delegates\, 36th District\n10:30 AM: Keynote Speaker – Vint Cerf\, V.P.\, Chief Internet Evangelist for Google\n11:00 AM: Presentations Begin\n12:30 PM: Awards and closing ceremony\n1:00 PM: Time to head home and get some much needed rest. You have done something amazing. Take some time to let it sink in\, and be sure to post your accomplishments to inspire others. \nInterested in participating? There is still time to sign up. Applications are here. https://empower2make.org/makers/
URL:https://www.neilsquire.ca/event/empower2make-rsvp-public-presentations-closing-ceremony/
LOCATION:Nova Labs\, 1916 Isaac Newton Square W\, Reston\, VA\, 20190\, United States
ATTACH;FMTTYPE=image/png:https://www.neilsquire.ca/wp-content/uploads/2019/03/Empower2Make.png
END:VEVENT
END:VCALENDAR