BEGIN:VCALENDAR
VERSION:2.0
PRODID:-//Neil Squire Society - ECPv5.3.1.1//NONSGML v1.0//EN
CALSCALE:GREGORIAN
METHOD:PUBLISH
X-WR-CALNAME:Neil Squire Society
X-ORIGINAL-URL:https://www.neilsquire.ca
X-WR-CALDESC:Events for Neil Squire Society
BEGIN:VTIMEZONE
TZID:America/Vancouver
BEGIN:DAYLIGHT
TZOFFSETFROM:-0800
TZOFFSETTO:-0700
TZNAME:PDT
DTSTART:20230312T100000
END:DAYLIGHT
BEGIN:STANDARD
TZOFFSETFROM:-0700
TZOFFSETTO:-0800
TZNAME:PST
DTSTART:20231105T090000
END:STANDARD
END:VTIMEZONE
BEGIN:VEVENT
DTSTART;TZID=America/Vancouver:20230313T120000
DTEND;TZID=America/Vancouver:20230313T160000
DTSTAMP:20260423T165000
CREATED:20230308T230328Z
LAST-MODIFIED:20230313T215650Z
UID:26457-1678708800-1678723200@www.neilsquire.ca
SUMMARY:Empowering Abilities Job Fair
DESCRIPTION:Hosted by WorkBC Vancouver City Centre\, this inclusive in-person job fair is FREE and open to job seekers with disabilities. \nEmpowering Abilities Job Fair aims to connect inclusive employers with job seekers who are motivated to contribute their unique skills to the workforce. \nWorkBC Assistive Technology Services Marketing Manager Nate Toevs will be attending and will be speaking at the event.
URL:https://www.neilsquire.ca/event/empowering-abilities-job-fair/
LOCATION:Vancouver Community College\, City Centre Campus\, 250 West Pender Street\, Vancouver\, Canada
CATEGORIES:Career Fair,WorkBC ATS
ATTACH;FMTTYPE=image/png:https://www.neilsquire.ca/wp-content/uploads/2023/03/329777768_596074292517274_9037421312713108060_n.png
END:VEVENT
END:VCALENDAR