BEGIN:VCALENDAR
VERSION:2.0
PRODID:-//Neil Squire Society - ECPv5.3.1.1//NONSGML v1.0//EN
CALSCALE:GREGORIAN
METHOD:PUBLISH
X-WR-CALNAME:Neil Squire Society
X-ORIGINAL-URL:https://www.neilsquire.ca
X-WR-CALDESC:Events for Neil Squire Society
BEGIN:VTIMEZONE
TZID:America/Moncton
BEGIN:DAYLIGHT
TZOFFSETFROM:-0400
TZOFFSETTO:-0300
TZNAME:ADT
DTSTART:20200308T060000
END:DAYLIGHT
BEGIN:STANDARD
TZOFFSETFROM:-0300
TZOFFSETTO:-0400
TZNAME:AST
DTSTART:20201101T050000
END:STANDARD
END:VTIMEZONE
BEGIN:VEVENT
DTSTART;TZID=America/Moncton:20200603T140000
DTEND;TZID=America/Moncton:20200603T170000
DTSTAMP:20260419T125201
CREATED:20200528T190453Z
LAST-MODIFIED:20200528T191117Z
UID:21938-1591192800-1591203600@www.neilsquire.ca
SUMMARY:Facebook Live Mindfulness Workshop
DESCRIPTION:June 3rd at 2pm ADT: Facebook Live (@ATHelpDesk.ca) Mindfulness Workshop.
URL:https://www.neilsquire.ca/event/facebook-live-mindfulness-workshop/
CATEGORIES:Workshop
ATTACH;FMTTYPE=image/jpeg:https://www.neilsquire.ca/wp-content/uploads/2020/05/facebook-live-brand-awareness.jpg
END:VEVENT
END:VCALENDAR