BEGIN:VCALENDAR
VERSION:2.0
PRODID:-//Neil Squire Society - ECPv5.3.1.1//NONSGML v1.0//EN
CALSCALE:GREGORIAN
METHOD:PUBLISH
X-WR-CALNAME:Neil Squire Society
X-ORIGINAL-URL:https://www.neilsquire.ca
X-WR-CALDESC:Events for Neil Squire Society
BEGIN:VTIMEZONE
TZID:America/Detroit
BEGIN:DAYLIGHT
TZOFFSETFROM:-0500
TZOFFSETTO:-0400
TZNAME:EDT
DTSTART:20210314T070000
END:DAYLIGHT
BEGIN:STANDARD
TZOFFSETFROM:-0400
TZOFFSETTO:-0500
TZNAME:EST
DTSTART:20211107T060000
END:STANDARD
END:VTIMEZONE
BEGIN:VEVENT
DTSTART;TZID=America/Detroit:20210624T160000
DTEND;TZID=America/Detroit:20210624T173000
DTSTAMP:20260420T173711
CREATED:20210611T203310Z
LAST-MODIFIED:20210611T203310Z
UID:23905-1624550400-1624555800@www.neilsquire.ca
SUMMARY:Free Virtual Workshops for Disability Professionals: Make Your Own Therapy Ball Using Makey Makey
DESCRIPTION:In this 3rd session\, Michigan Makers Making Change Chapter Leaders Katie Butzu and Mark Lyons will teach you how to turn a yoga ball into a therapy ball. \nSupplies needed to make your own Therapy ball: Yoga ball\, aluminum foil tape\, speaker wire\, cardboard\, wire strippers\, Duct tape\, cardboard\, and a Makey Makey kit (new window). \nYou won’t want to miss this session!
URL:https://www.neilsquire.ca/event/free-virtual-workshops-for-disability-professionals-make-your-own-therapy-ball-using-makey-makey/
CATEGORIES:Workshop
ATTACH;FMTTYPE=image/png:https://www.neilsquire.ca/wp-content/uploads/2020/10/Makey-Makey.png
END:VEVENT
END:VCALENDAR