BEGIN:VCALENDAR
VERSION:2.0
PRODID:-//Neil Squire Society - ECPv5.3.1.1//NONSGML v1.0//EN
CALSCALE:GREGORIAN
METHOD:PUBLISH
X-WR-CALNAME:Neil Squire Society
X-ORIGINAL-URL:https://www.neilsquire.ca
X-WR-CALDESC:Events for Neil Squire Society
BEGIN:VTIMEZONE
TZID:America/Toronto
BEGIN:DAYLIGHT
TZOFFSETFROM:-0500
TZOFFSETTO:-0400
TZNAME:EDT
DTSTART:20230312T070000
END:DAYLIGHT
BEGIN:STANDARD
TZOFFSETFROM:-0400
TZOFFSETTO:-0500
TZNAME:EST
DTSTART:20231105T060000
END:STANDARD
END:VTIMEZONE
BEGIN:VEVENT
DTSTART;TZID=America/Toronto:20230405T100000
DTEND;TZID=America/Toronto:20230405T160000
DTSTAMP:20260424T210907
CREATED:20230329T224319Z
LAST-MODIFIED:20230329T224319Z
UID:26577-1680688800-1680710400@www.neilsquire.ca
SUMMARY:GAME Checkpoint Open House – West Park Healthcare Centre
DESCRIPTION:Makers Making Change has partnered with West Park Healthcare Center to become 1 of the 4 GAME (Game Accessibility Made for Everyone) Checkpoints. The GAME Checkpoints program was created to grow adaptive gaming opportunities for Canadians by empowering our community with: \n\nAdaptive Gaming Gear\nTailored In-Person Training\nAdaptive Gaming Resources\n\nThis open house will focus on a showcase of the adaptive gaming space within the West Park Healthcare Centre. There will be 6 presentations throughout the day on MMC and adaptive gaming as well as the space being open from 10am-4pm ET (local Toronto time). The presentation times can be found below: \nPresentation Times:\n10:00 – 10:20 am\n11:00 – 11:20 am\n12:10 – 12:30 pm\n12:40 – 1:00 pm\n2:00 – 2:20 pm\n3:00 – 3:20 pm \nThis event is closed to West Park Healthcare Centre and MMC partners. Contact tylerf@neilsquire.ca if you are not a staff or client of West Park and are planning to attend.
URL:https://www.neilsquire.ca/event/game-checkpoint-open-house-west-park-healthcare-centre/
LOCATION:West Park Healthcare Centre\, 82 Buttonwood Ave\, York\, Ontario\, M6M 2J5\, Canada
CATEGORIES:Community Event,Makers Making Change,Open House,Presentation
ATTACH;FMTTYPE=image/jpeg:https://www.neilsquire.ca/wp-content/uploads/2023/02/GAME-Checkpoint-Sticker.jpg
END:VEVENT
END:VCALENDAR