BEGIN:VCALENDAR
VERSION:2.0
PRODID:-//Neil Squire Society - ECPv5.3.1.1//NONSGML v1.0//EN
CALSCALE:GREGORIAN
METHOD:PUBLISH
X-WR-CALNAME:Neil Squire Society
X-ORIGINAL-URL:https://www.neilsquire.ca
X-WR-CALDESC:Events for Neil Squire Society
BEGIN:VTIMEZONE
TZID:America/Edmonton
BEGIN:DAYLIGHT
TZOFFSETFROM:-0700
TZOFFSETTO:-0600
TZNAME:MDT
DTSTART:20220313T090000
END:DAYLIGHT
BEGIN:STANDARD
TZOFFSETFROM:-0600
TZOFFSETTO:-0700
TZNAME:MST
DTSTART:20221106T080000
END:STANDARD
END:VTIMEZONE
BEGIN:VEVENT
DTSTART;TZID=America/Edmonton:20221206T093000
DTEND;TZID=America/Edmonton:20221206T110000
DTSTAMP:20260421T021048
CREATED:20221202T235319Z
LAST-MODIFIED:20221202T235319Z
UID:25967-1670319000-1670324400@www.neilsquire.ca
SUMMARY:Hacking for the Holidays: Crescent Heights High School Build 1
DESCRIPTION:We are excited to be partnering with the Crescent Heights High School students to adapt toys for children with disabilities. \nParticipants attending the event will be provided with tools and instructions and guided in adapting toys to be compatible with assistive switches to allow children of all abilities to play and interact with toys. All skill levels are welcome\, and every toy and device will be given to a child with a disability as part of our Hacking for the Holidays campaign. \nThis is a closed event for Crescent Heights Students. \nWhile not necessary to participate or receive a toy\, donations to our Hacking for the Holidays campaign are appreciated and can be made here (new window)
URL:https://www.neilsquire.ca/event/hacking-for-the-holidays-crescent-heights-high-school-build-1/
CATEGORIES:Community Event,Hackathon,Makers Making Change
ATTACH;FMTTYPE=image/png:https://www.neilsquire.ca/wp-content/uploads/2022/12/Crescent-Heights-1-1024x354-1.png
END:VEVENT
END:VCALENDAR