BEGIN:VCALENDAR
VERSION:2.0
PRODID:-//Neil Squire Society - ECPv5.3.1.1//NONSGML v1.0//EN
CALSCALE:GREGORIAN
METHOD:PUBLISH
X-WR-CALNAME:Neil Squire Society
X-ORIGINAL-URL:https://www.neilsquire.ca
X-WR-CALDESC:Events for Neil Squire Society
BEGIN:VTIMEZONE
TZID:America/Halifax
BEGIN:DAYLIGHT
TZOFFSETFROM:-0400
TZOFFSETTO:-0300
TZNAME:ADT
DTSTART:20220313T060000
END:DAYLIGHT
BEGIN:STANDARD
TZOFFSETFROM:-0300
TZOFFSETTO:-0400
TZNAME:AST
DTSTART:20221106T050000
END:STANDARD
END:VTIMEZONE
BEGIN:VEVENT
DTSTART;TZID=America/Halifax:20221124T160000
DTEND;TZID=America/Halifax:20221124T180000
DTSTAMP:20260419T064924
CREATED:20221123T003835Z
LAST-MODIFIED:20221123T003905Z
UID:25924-1669305600-1669312800@www.neilsquire.ca
SUMMARY:Hacking for the Holidays: Toy Adapting with Aberdeen Hospital Occupational Therapists
DESCRIPTION:Makers Making Change is so excited to be adapting toys with the Aberdeen Hospital’s Occupational Therapists for the Holiday season! \nOccupational Therapists will be learning more about the Makers Making Change program and then be led by our MMC staff through switch adapting toys. A variety of toys will be adapted like Peppa the Pig\, RC Cars and light up wands. These toys will then be donated to children within Northern Nova Scotia through the Aberdeen OT team.
URL:https://www.neilsquire.ca/event/hacking-for-the-holidays-toy-adapting-with-aberdeen-hospital-occupational-therapists/
LOCATION:Aberdeen Hospital\, 835 East River Road\, New Glasgow\, Nova Scotia\, B2H 3S6\, Canada
CATEGORIES:Community Event,Hackathon,Makers Making Change
ATTACH;FMTTYPE=image/png:https://www.neilsquire.ca/wp-content/uploads/2022/11/Event-Image-1-1024x512-1.png
END:VEVENT
END:VCALENDAR