BEGIN:VCALENDAR
VERSION:2.0
PRODID:-//Neil Squire Society - ECPv5.3.1.1//NONSGML v1.0//EN
CALSCALE:GREGORIAN
METHOD:PUBLISH
X-WR-CALNAME:Neil Squire Society
X-ORIGINAL-URL:https://www.neilsquire.ca
X-WR-CALDESC:Events for Neil Squire Society
BEGIN:VTIMEZONE
TZID:America/Halifax
BEGIN:DAYLIGHT
TZOFFSETFROM:-0400
TZOFFSETTO:-0300
TZNAME:ADT
DTSTART:20220313T060000
END:DAYLIGHT
BEGIN:STANDARD
TZOFFSETFROM:-0300
TZOFFSETTO:-0400
TZNAME:AST
DTSTART:20221106T050000
END:STANDARD
END:VTIMEZONE
BEGIN:VEVENT
DTSTART;TZID=America/Halifax:20221205T100000
DTEND;TZID=America/Halifax:20221205T120000
DTSTAMP:20260421T034425
CREATED:20221124T195916Z
LAST-MODIFIED:20221124T195916Z
UID:25947-1670234400-1670241600@www.neilsquire.ca
SUMMARY:Hacking for the Holidays: Toy Adapting with Nova Scotia AT Specialists Session #2
DESCRIPTION:Makers Making Change is so excited to be adapting toys with Assistive Technology Specialists from the Department of Education for the Holidays. \nVolunteers will be learning more about the Makers Making Change program and then be led by our MMC staff through switch adapting toys. Volunteers will be adapting a variety of toys like Peppa the Pig\, RC cars\, and light up wands. \nEvery device will be given to a child with a disability as part of our Hacking For The Holidays campaign (new window).
URL:https://www.neilsquire.ca/event/hacking-for-the-holidays-toy-adapting-with-nova-scotia-at-specialists-session-2/
LOCATION:Chignecto Centreal Regional School Board Head Office\, 60 Lorne St.\, Truro\, Nova Scotia\, B2N 3K3\, Canada
CATEGORIES:Hackathon,Makers Making Change
ATTACH;FMTTYPE=image/png:https://www.neilsquire.ca/wp-content/uploads/2022/11/Hacking-For-The-Holidays-1024x512-1.png
END:VEVENT
END:VCALENDAR