BEGIN:VCALENDAR
VERSION:2.0
PRODID:-//Neil Squire Society - ECPv5.3.1.1//NONSGML v1.0//EN
CALSCALE:GREGORIAN
METHOD:PUBLISH
X-WR-CALNAME:Neil Squire Society
X-ORIGINAL-URL:https://www.neilsquire.ca
X-WR-CALDESC:Events for Neil Squire Society
BEGIN:VTIMEZONE
TZID:America/Halifax
BEGIN:DAYLIGHT
TZOFFSETFROM:-0400
TZOFFSETTO:-0300
TZNAME:ADT
DTSTART:20220313T060000
END:DAYLIGHT
BEGIN:STANDARD
TZOFFSETFROM:-0300
TZOFFSETTO:-0400
TZNAME:AST
DTSTART:20221106T050000
END:STANDARD
END:VTIMEZONE
BEGIN:VEVENT
DTSTART;TZID=America/Halifax:20221117T130000
DTEND;TZID=America/Halifax:20221117T160000
DTSTAMP:20260419T112144
CREATED:20221102T231134Z
LAST-MODIFIED:20221102T231134Z
UID:25792-1668690000-1668700800@www.neilsquire.ca
SUMMARY:Hacking For the Holidays: Toy Adapting with Salesforce Halifax
DESCRIPTION:We are thrilled to invited back by our friends at Salesforce to adapt toys right before the holidays! \nVolunteers will be adapting commercially available toys to make them compatible with adaptive switches\, making them easy to play with for all children. Toys will be donated throughout Atlantic Canada to families and children hospitals in need. \nIf you are interested in adapting toys with us\, please reach out! info@makersmakingchange.com \nEvery toy and switch will be given to a child with a disability as part of our Hacking For The Holidays campaign (new window).
URL:https://www.neilsquire.ca/event/hacking-for-the-holidays-toy-adapting-with-salesforce-halifax/
CATEGORIES:Community Event,Hackathon,Makers Making Change
ATTACH;FMTTYPE=image/jpeg:https://www.neilsquire.ca/wp-content/uploads/2022/06/Salesforce-Build-Thumbnail.jpg
END:VEVENT
END:VCALENDAR