BEGIN:VCALENDAR
VERSION:2.0
PRODID:-//Neil Squire Society - ECPv5.3.1.1//NONSGML v1.0//EN
CALSCALE:GREGORIAN
METHOD:PUBLISH
X-WR-CALNAME:Neil Squire Society
X-ORIGINAL-URL:https://www.neilsquire.ca
X-WR-CALDESC:Events for Neil Squire Society
BEGIN:VTIMEZONE
TZID:America/Toronto
BEGIN:DAYLIGHT
TZOFFSETFROM:-0500
TZOFFSETTO:-0400
TZNAME:EDT
DTSTART:20220313T070000
END:DAYLIGHT
BEGIN:STANDARD
TZOFFSETFROM:-0400
TZOFFSETTO:-0500
TZNAME:EST
DTSTART:20221106T060000
END:STANDARD
END:VTIMEZONE
BEGIN:VEVENT
DTSTART;TZID=America/Toronto:20221205T130000
DTEND;TZID=America/Toronto:20221205T150000
DTSTAMP:20260421T034333
CREATED:20221124T200253Z
LAST-MODIFIED:20221124T200253Z
UID:25949-1670245200-1670252400@www.neilsquire.ca
SUMMARY:Hacking for the Holidays: Western University OT Students – Switch Build & Toy Hack
DESCRIPTION:Play is an essential occupation for children’s learning and development. MMC are pleased to facilitate a switch build and toy hack in partnership with Western University. \nAs part of our Hacking for the Holidays event\,  2nd year Occupational Therapy students at Western University will learn new skills building low cost assistive devices for children with disabilities.  With support from MMC team members\, students will improve their knowledge about affordable assistive technology\, build switches and modify toys to be switch accessible.  Toys will be donated to children in the community providing greater access through play to improved learning and development opportunities. \nThis is a private event at Western University. If you are a part of an organization serving children with disabilities or an individual living in Ontario you can request a toy from this event.
URL:https://www.neilsquire.ca/event/hacking-for-the-holidays-western-university-ot-students-switch-build-toy-hack/
ATTACH;FMTTYPE=image/jpeg:https://www.neilsquire.ca/wp-content/uploads/2022/11/MicrosoftTeams-image-9.jpg
END:VEVENT
END:VCALENDAR