BEGIN:VCALENDAR
VERSION:2.0
PRODID:-//Neil Squire Society - ECPv5.3.1.1//NONSGML v1.0//EN
CALSCALE:GREGORIAN
METHOD:PUBLISH
X-WR-CALNAME:Neil Squire Society
X-ORIGINAL-URL:https://www.neilsquire.ca
X-WR-CALDESC:Events for Neil Squire Society
BEGIN:VTIMEZONE
TZID:America/Vancouver
BEGIN:DAYLIGHT
TZOFFSETFROM:-0800
TZOFFSETTO:-0700
TZNAME:PDT
DTSTART:20190310T100000
END:DAYLIGHT
BEGIN:STANDARD
TZOFFSETFROM:-0700
TZOFFSETTO:-0800
TZNAME:PST
DTSTART:20191103T090000
END:STANDARD
END:VTIMEZONE
BEGIN:VEVENT
DTSTART;TZID=America/Vancouver:20190918T090000
DTEND;TZID=America/Vancouver:20190918T170000
DTSTAMP:20260422T120057
CREATED:20190911T203536Z
LAST-MODIFIED:20190911T203536Z
UID:19239-1568797200-1568826000@www.neilsquire.ca
SUMMARY:Hiring and Workforce Housing Forum
DESCRIPTION:Come and visit us at the Hiring and Workforce Housing Forum.
URL:https://www.neilsquire.ca/event/hiring-and-workforce-housing-forum/
LOCATION:Penticton Lakeside Resort\, 21 Lakeshore Dr W\, Penticton\, BC\, V2A 7M5\, Canada
CATEGORIES:Forum
ATTACH;FMTTYPE=image/jpeg:https://www.neilsquire.ca/wp-content/uploads/2019/09/Slide-HiringHousing-Promo-Email-01.jpg
END:VEVENT
END:VCALENDAR