BEGIN:VCALENDAR
VERSION:2.0
PRODID:-//Neil Squire Society - ECPv5.3.1.1//NONSGML v1.0//EN
CALSCALE:GREGORIAN
METHOD:PUBLISH
X-WR-CALNAME:Neil Squire Society
X-ORIGINAL-URL:https://www.neilsquire.ca
X-WR-CALDESC:Events for Neil Squire Society
BEGIN:VTIMEZONE
TZID:America/Vancouver
BEGIN:DAYLIGHT
TZOFFSETFROM:-0800
TZOFFSETTO:-0700
TZNAME:PDT
DTSTART:20230312T100000
END:DAYLIGHT
BEGIN:STANDARD
TZOFFSETFROM:-0700
TZOFFSETTO:-0800
TZNAME:PST
DTSTART:20231105T090000
END:STANDARD
END:VTIMEZONE
BEGIN:VEVENT
DTSTART;TZID=America/Vancouver:20230918T130000
DTEND;TZID=America/Vancouver:20230918T153000
DTSTAMP:20260424T210902
CREATED:20230915T183346Z
LAST-MODIFIED:20230915T184409Z
UID:27439-1695042000-1695051000@www.neilsquire.ca
SUMMARY:In-Person Inclusive Hiring Fair Surrey
DESCRIPTION:In-person Inclusive Job Fair at the Surrey City Center Library.\nSept 18\, 2023\, 1 – 3.30 pm.\nEvery September is B.C. Disability Employment Month. We are pleased to invite you to our In-person Inclusive Job Fair. This event is in partnership with Surrey Libraries\, WorkBC Assistive Technology Services\, WorkBC Centre Whalley\, WorkBC Centre Guildford\, and WorkBC Centre Newton. \nThe job fair will bring together 6 multi-sector inclusive employers who are committed to an inclusive and multi-diverse workforce where everyone feels welcomed\, valued and respected. \nRegister now!\nEvent Details \n\nDate: September 18\, 2023 (Monday)\nTime: 1:00 pm – 03: 30 pm\nVenue: City Centre Library – Room 120 / Accessible venue\nParking: 2 hrs. of Free Parking*\n\n*Underground Parking – Surrey City Hall Complex. Register your plates at the kiosk located by the entrance of our event room.\n*Complementary parking time must be paid by any attendee and/or attendant at the parking payment machines\, once (before) your free time expires.
URL:https://www.neilsquire.ca/event/in-person-inclusive-hiring-fair-surrey/
LOCATION:Surrey Library – City Centre Branch\, 10350 University Drive\, Surrey\, BC\, Canada
CATEGORIES:Career Fair,Community Event,WorkBC ATS
ATTACH;FMTTYPE=image/jpeg:https://www.neilsquire.ca/wp-content/uploads/2023/09/https___cdn.evbuc_.com_images_593690269_157088243890_1_original.jpg
END:VEVENT
END:VCALENDAR