BEGIN:VCALENDAR
VERSION:2.0
PRODID:-//Neil Squire Society - ECPv5.3.1.1//NONSGML v1.0//EN
CALSCALE:GREGORIAN
METHOD:PUBLISH
X-WR-CALNAME:Neil Squire Society
X-ORIGINAL-URL:https://www.neilsquire.ca
X-WR-CALDESC:Events for Neil Squire Society
BEGIN:VTIMEZONE
TZID:America/Moncton
BEGIN:DAYLIGHT
TZOFFSETFROM:-0400
TZOFFSETTO:-0300
TZNAME:ADT
DTSTART:20200308T060000
END:DAYLIGHT
BEGIN:STANDARD
TZOFFSETFROM:-0300
TZOFFSETTO:-0400
TZNAME:AST
DTSTART:20201101T050000
END:STANDARD
END:VTIMEZONE
BEGIN:VEVENT
DTSTART;TZID=America/Moncton:20201203T140000
DTEND;TZID=America/Moncton:20201203T153000
DTSTAMP:20260419T174808
CREATED:20201120T234735Z
LAST-MODIFIED:20201120T234921Z
UID:22936-1607004000-1607009400@www.neilsquire.ca
SUMMARY:International Day For Persons With Disabilities Virtual Switch Build
DESCRIPTION:Neil Squire and Makers Making Change are excited to partner with New Brunswick’s Premier’s Council on Disabilities for a virtual event where participants will build adaptive switches in celebration of International Day for Persons with Disabilities! The International Day of Persons with Disabilities (IDPD) is annually observed on 3 December to promote the full and equal participation of persons with disabilities and to take action for the inclusion of persons with disabilities in all aspects of society and development. \nParticipants will be provided with tools and materials\, and be instructed by MMC staff on how to build a Round Flexure Switch (additional information on this switch can be found in our projects library) virtually. Participants learn how to solder and assemble the assistive device which will then be donated to Stan Cassidy Centre for Rehabilitation and their Technology Access program. Makers Making Change would like to thank Open Sky Cooperative in Sackville New Brunswick for participating in this event. \nRegistration for participating in this build event is currently closed\, but if you or your organization is interested in participating in a build\, please get in touch at info@makersmakingchange.com (new window)!
URL:https://www.neilsquire.ca/event/international-day-for-persons-with-disabilities-virtual-switch-build/
CATEGORIES:Buildathon
ATTACH;FMTTYPE=image/jpeg:https://www.neilsquire.ca/wp-content/uploads/2020/11/Poster-Title-only-EN-2-scaled.jpg
END:VEVENT
END:VCALENDAR