BEGIN:VCALENDAR
VERSION:2.0
PRODID:-//Neil Squire Society - ECPv5.3.1.1//NONSGML v1.0//EN
CALSCALE:GREGORIAN
METHOD:PUBLISH
X-WR-CALNAME:Neil Squire Society
X-ORIGINAL-URL:https://www.neilsquire.ca
X-WR-CALDESC:Events for Neil Squire Society
BEGIN:VTIMEZONE
TZID:Asia/Seoul
BEGIN:STANDARD
TZOFFSETFROM:+0900
TZOFFSETTO:+0900
TZNAME:KST
DTSTART:20210101T000000
END:STANDARD
END:VTIMEZONE
BEGIN:VEVENT
DTSTART;TZID=Asia/Seoul:20210729T100000
DTEND;TZID=Asia/Seoul:20210729T150000
DTSTAMP:20260420T035143
CREATED:20210607T162308Z
LAST-MODIFIED:20210721T230207Z
UID:23878-1627552800-1627570800@www.neilsquire.ca
SUMMARY:International Symposium on Rehabilitation Research 2021
DESCRIPTION:Our Director of Innovation\, Chad Leaman\, will be speaking at the International Symposium on Rehabilitation Research 2021 about Open-Source Assistive Technology Devices – 3D printing and making access solutions. \nSummary:\nMakers Making Change connects people with disabilities and disability professionals to makers\, who can assist in fabricating assistive technologies from our open-source library of assistive technology (Open AT). There are over 100 devices\, designed both by our staff and by our community of volunteers. These devices document where to source parts\, provide downloadable 3d printable files\, code and assembly instructions. Anyone can build these devices\, but we work with students\, engineers and other maker volunteers to help build these solutions for people that need assistive technology in their community.  http://www.makersmakingchange.com \nWe have hosted over 100 buildathon events\, have 30 Chapters across North America\, and deployed thousands of assistive technologies to people with disabilities and disability organizations. We are focusing on building this model to foster social connection\, empathy\, codesign\, and partnerships that cross typical social-economic barriers\, providing customized solutions at a fraction of the cost of commercial offerings through action-based philanthropy. \nLearn how this program model provides new opportunities to meet the assistive technology needs of people with disabilities.
URL:https://www.neilsquire.ca/event/international-symposium-on-rehabilitation-research-2021/
CATEGORIES:Conference
ATTACH;FMTTYPE=image/jpeg:https://www.neilsquire.ca/wp-content/uploads/2016/03/Chad-Leaman_16ntc_web.jpg
END:VEVENT
END:VCALENDAR