BEGIN:VCALENDAR
VERSION:2.0
PRODID:-//Neil Squire Society - ECPv5.3.1.1//NONSGML v1.0//EN
CALSCALE:GREGORIAN
METHOD:PUBLISH
X-WR-CALNAME:Neil Squire Society
X-ORIGINAL-URL:https://www.neilsquire.ca
X-WR-CALDESC:Events for Neil Squire Society
BEGIN:VTIMEZONE
TZID:America/Vancouver
BEGIN:DAYLIGHT
TZOFFSETFROM:-0800
TZOFFSETTO:-0700
TZNAME:PDT
DTSTART:20210314T100000
END:DAYLIGHT
BEGIN:STANDARD
TZOFFSETFROM:-0700
TZOFFSETTO:-0800
TZNAME:PST
DTSTART:20211107T090000
END:STANDARD
END:VTIMEZONE
BEGIN:VEVENT
DTSTART;TZID=America/Vancouver:20210319T120000
DTEND;TZID=America/Vancouver:20210319T130000
DTSTAMP:20260421T135221
CREATED:20210312T234150Z
LAST-MODIFIED:20210312T234150Z
UID:23611-1616155200-1616158800@www.neilsquire.ca
SUMMARY:Intro to Neil Squire’s Working Together Program
DESCRIPTION:In this ConnecTogether webinar\, Gilbert Siu will introduce this unique\, comprehensive and participant centered program designed to develop the skills required to help individuals achieve their employment goals. \nThe Program Offers: \n\nIndividualized program plans or group-based learning environment\nCareer & Personal Development\, Wellness for Work & Job Search Support customized to meet your individual needs\nWage subsidy may be available if needed\nContinuous support from career professionals\nErgonomic and/or Assistive Technology assessments and solutions
URL:https://www.neilsquire.ca/event/intro-to-neil-squires-working-together-program/
CATEGORIES:Webinar
ATTACH;FMTTYPE=image/png:https://www.neilsquire.ca/wp-content/uploads/2021/03/Connectra-Working-Together.png
END:VEVENT
END:VCALENDAR