BEGIN:VCALENDAR
VERSION:2.0
PRODID:-//Neil Squire Society - ECPv5.3.1.1//NONSGML v1.0//EN
CALSCALE:GREGORIAN
METHOD:PUBLISH
X-WR-CALNAME:Neil Squire Society
X-ORIGINAL-URL:https://www.neilsquire.ca
X-WR-CALDESC:Events for Neil Squire Society
BEGIN:VTIMEZONE
TZID:America/Toronto
BEGIN:DAYLIGHT
TZOFFSETFROM:-0500
TZOFFSETTO:-0400
TZNAME:EDT
DTSTART:20210314T070000
END:DAYLIGHT
BEGIN:STANDARD
TZOFFSETFROM:-0400
TZOFFSETTO:-0500
TZNAME:EST
DTSTART:20211107T060000
END:STANDARD
END:VTIMEZONE
BEGIN:VEVENT
DTSTART;TZID=America/Toronto:20210126T170000
DTEND;TZID=America/Toronto:20210126T170000
DTSTAMP:20260419T063114
CREATED:20210211T181737Z
LAST-MODIFIED:20210211T181737Z
UID:23465-1611680400-1611680400@www.neilsquire.ca
SUMMARY:Join The Make Therapeutic Exercise Fun "Show and Tell"
DESCRIPTION:On December 19th 2020\, disability professionals of all types participated in a sponsored workshop focused on making therapeutic exercise fun using the Makey Makey. Participants in the workshop were asked to bring a specific idea or project they want to explore using the Makey Makey device. \nDuring this Show and Tell you will see the fun therapeutic projects they have invented for their clients and learn more about upcoming courses! \nWhat Did We Learn?\n\nHow to create a low tech switch out of cardboard\, tinfoil and bubble wrap and adjust pressure sensitivity\nHow to use the Makey Makey to output sounds\, control videos\, games and more!\nWhere to find simple online games that are easy and fun to use with a switch that involve no coding.\nHow to use the Makey Makey for virtual therapy sessions\nHow to use the program Scratch (new window) to code simple actions (ex: on switch press make X sound)\n\nWhat is a Makey Makey?\n\nThe Makey Makey (new window) device looks like an old school Nintendo Controller; it is a electronic invention device that works by opening and closing a circuit. Just attach any conductive object to the Makey Makey board with alligator clips and connect to the internet. This allows anything conductive to be a switch and trigger actions on another device! For example\, through simple movements with your body\, you can trigger sounds (new window)\, or an action on a software program (see the awesome video below!) Disability professionals can use the Makey Makey to motivate and engage their clients to participate in fun therapeutic exercises. The device can be used to help clients adopt switch use\, and practice their fine motor control\, strength and balance activities and more!\n  \nJoin The Make Therapeutic Exercise Fun “Show and Tell”\nJan 26\, 2pm PST or 5 pm EST\, disability professionals who participated in the course will demonstrate the projects they created for their clients! Sign up Here (new window)\nTo check out some of the other Makey Makey course submisssions\, ideas and discussions go to our forum (new window) \nInterested to Join the Makey Makey for Therapeutic Exercise Course in the Future?\nJoin the waitlist here (new window) and we will alert you when the next workshop is scheduled!
URL:https://www.neilsquire.ca/event/join-the-make-therapeutic-exercise-fun-show-and-tell/
CATEGORIES:Makers Making Change
END:VEVENT
END:VCALENDAR