BEGIN:VCALENDAR
VERSION:2.0
PRODID:-//Neil Squire Society - ECPv5.3.1.1//NONSGML v1.0//EN
CALSCALE:GREGORIAN
METHOD:PUBLISH
X-WR-CALNAME:Neil Squire Society
X-ORIGINAL-URL:https://www.neilsquire.ca
X-WR-CALDESC:Events for Neil Squire Society
BEGIN:VTIMEZONE
TZID:America/Toronto
BEGIN:DAYLIGHT
TZOFFSETFROM:-0500
TZOFFSETTO:-0400
TZNAME:EDT
DTSTART:20240310T070000
END:DAYLIGHT
BEGIN:STANDARD
TZOFFSETFROM:-0400
TZOFFSETTO:-0500
TZNAME:EST
DTSTART:20241103T060000
END:STANDARD
END:VTIMEZONE
BEGIN:VEVENT
DTSTART;TZID=America/Toronto:20240709T180000
DTEND;TZID=America/Toronto:20240709T193000
DTSTAMP:20260424T032919
CREATED:20240628T224021Z
LAST-MODIFIED:20240628T224021Z
UID:28962-1720548000-1720553400@www.neilsquire.ca
SUMMARY:Make It Happen: Build an Assistive Writing Aid
DESCRIPTION:For ages 14 and up. Join us in the Gather/Create Space to learn a useful hands-on skill taught by a community expert. No previous experience necessary. \nLearn to build an affordable assistive writing aid this week! \nKeep an eye out for future Make It Happen events (3D printing\, photography\, bicycle maintenance\, wood repairs\, beading) happening Tuesdays throughout the summer. \nA limited number of spaces are available so that we may provide more support to each participant and ensure enough space. If registration is full\, please join the waitlist. \nMakers Making Change (MMC) will be joining the Kingston Public Library to host the first of six Make It Happen events to build an affordable assistive writing aid. MMC is part of the Neil Squire Society\, a Canadian not for profit organization which uses technology\, knowledge\, and passion to empower Canadians with disabilities. Participants will learn about the Neil Squire Society and MMC\, designing affordable\, open-source assistive technology\, and will get the chance to assemble the Pen Ball writing aid. All devices assembled will be donated to Canadians who need them. \nThis program is sponsored by the Friends of the Kingston Frontenac Public Library.
URL:https://www.neilsquire.ca/event/make-it-happen-build-an-assistive-writing-aid/
LOCATION:Kingston Frontenac Public Library – Central Branch\, 130 Johnson St\, Kingston\, Ontario\, Canada
CATEGORIES:Buildathon,Community Event,Makers Making Change
ATTACH;FMTTYPE=image/jpeg:https://www.neilsquire.ca/wp-content/uploads/2024/06/GRF4ZBSWsAE-0Y8.jpg
END:VEVENT
END:VCALENDAR