BEGIN:VCALENDAR
VERSION:2.0
PRODID:-//Neil Squire Society - ECPv5.3.1.1//NONSGML v1.0//EN
CALSCALE:GREGORIAN
METHOD:PUBLISH
X-WR-CALNAME:Neil Squire Society
X-ORIGINAL-URL:https://www.neilsquire.ca
X-WR-CALDESC:Events for Neil Squire Society
BEGIN:VTIMEZONE
TZID:America/Vancouver
BEGIN:DAYLIGHT
TZOFFSETFROM:-0800
TZOFFSETTO:-0700
TZNAME:PDT
DTSTART:20240310T100000
END:DAYLIGHT
BEGIN:STANDARD
TZOFFSETFROM:-0700
TZOFFSETTO:-0800
TZNAME:PST
DTSTART:20241103T090000
END:STANDARD
END:VTIMEZONE
BEGIN:VEVENT
DTSTART;VALUE=DATE:20240918
DTEND;VALUE=DATE:20240919
DTSTAMP:20260419T080210
CREATED:20240910T201420Z
LAST-MODIFIED:20240910T201420Z
UID:29217-1726617600-1726703999@www.neilsquire.ca
SUMMARY:Mental Illness Presentation
DESCRIPTION:Our Prairie Regional Manager\, Nikki Langdon\, will be speaking about Mental Illness with our Solutions team in New Brunswick.
URL:https://www.neilsquire.ca/event/mental-illness-presentation/
CATEGORIES:Presentation
ATTACH;FMTTYPE=image/jpeg:https://www.neilsquire.ca/wp-content/uploads/2024/07/Nikki-Langdon-square-crop.jpg
END:VEVENT
END:VCALENDAR