BEGIN:VCALENDAR
VERSION:2.0
PRODID:-//Neil Squire Society - ECPv5.3.1.1//NONSGML v1.0//EN
CALSCALE:GREGORIAN
METHOD:PUBLISH
X-WR-CALNAME:Neil Squire Society
X-ORIGINAL-URL:https://www.neilsquire.ca
X-WR-CALDESC:Events for Neil Squire Society
BEGIN:VTIMEZONE
TZID:America/Halifax
BEGIN:DAYLIGHT
TZOFFSETFROM:-0400
TZOFFSETTO:-0300
TZNAME:ADT
DTSTART:20250309T060000
END:DAYLIGHT
BEGIN:STANDARD
TZOFFSETFROM:-0300
TZOFFSETTO:-0400
TZNAME:AST
DTSTART:20251102T050000
END:STANDARD
END:VTIMEZONE
BEGIN:VEVENT
DTSTART;TZID=America/Halifax:20251212T100000
DTEND;TZID=America/Halifax:20251212T143000
DTSTAMP:20260424T174749
CREATED:20251209T213855Z
LAST-MODIFIED:20251209T213855Z
UID:31097-1765533600-1765549800@www.neilsquire.ca
SUMMARY:Mind\, Makers & Medicine - Switch Build Event
DESCRIPTION:Makers Making Change is taking part of the Mind\, Makers & Medicine event\, planned by the Centre of Excellence. Throughout the day\, Saint John Students will explore real-world healthcare applications\, participate in hands-on creation of assistive devices\, and learn about health-care career opportunities in New Brunswick.
URL:https://www.neilsquire.ca/event/mind-makers-medicine-switch-build-event/
CATEGORIES:Buildathon,Makers Making Change
ATTACH;FMTTYPE=image/jpeg:https://www.neilsquire.ca/wp-content/uploads/2025/12/068JR00000fsllVYAQ.jpg
END:VEVENT
END:VCALENDAR