BEGIN:VCALENDAR
VERSION:2.0
PRODID:-//Neil Squire Society - ECPv5.3.1.1//NONSGML v1.0//EN
CALSCALE:GREGORIAN
METHOD:PUBLISH
X-WR-CALNAME:Neil Squire Society
X-ORIGINAL-URL:https://www.neilsquire.ca
X-WR-CALDESC:Events for Neil Squire Society
BEGIN:VTIMEZONE
TZID:America/Vancouver
BEGIN:DAYLIGHT
TZOFFSETFROM:-0800
TZOFFSETTO:-0700
TZNAME:PDT
DTSTART:20190310T100000
END:DAYLIGHT
BEGIN:STANDARD
TZOFFSETFROM:-0700
TZOFFSETTO:-0800
TZNAME:PST
DTSTART:20191103T090000
END:STANDARD
END:VTIMEZONE
BEGIN:VEVENT
DTSTART;TZID=America/Vancouver:20191030T083000
DTEND;TZID=America/Vancouver:20191030T110000
DTSTAMP:20260419T180319
CREATED:20191030T145855Z
LAST-MODIFIED:20240814T174508Z
UID:19699-1572424200-1572433200@www.neilsquire.ca
SUMMARY:Moscrop 7th Annual Career Fair
DESCRIPTION:We will be at the Moscrop 7th Annual Career Fair.
URL:https://www.neilsquire.ca/event/moscrop-7th-annual-career-fair/
LOCATION:Moscrop Secondary School\, 4433 Moscrop St\, Burnaby\, BC\, V5G 2G3\, Canada
CATEGORIES:Community Event
END:VEVENT
END:VCALENDAR