BEGIN:VCALENDAR
VERSION:2.0
PRODID:-//Neil Squire Society - ECPv5.3.1.1//NONSGML v1.0//EN
CALSCALE:GREGORIAN
METHOD:PUBLISH
X-WR-CALNAME:Neil Squire Society
X-ORIGINAL-URL:https://www.neilsquire.ca
X-WR-CALDESC:Events for Neil Squire Society
BEGIN:VTIMEZONE
TZID:America/Halifax
BEGIN:DAYLIGHT
TZOFFSETFROM:-0400
TZOFFSETTO:-0300
TZNAME:ADT
DTSTART:20200308T060000
END:DAYLIGHT
BEGIN:STANDARD
TZOFFSETFROM:-0300
TZOFFSETTO:-0400
TZNAME:AST
DTSTART:20201101T050000
END:STANDARD
END:VTIMEZONE
BEGIN:VEVENT
DTSTART;TZID=America/Halifax:20200603T133000
DTEND;TZID=America/Halifax:20200603T170000
DTSTAMP:20260419T143818
CREATED:20200601T153509Z
LAST-MODIFIED:20200601T153509Z
UID:21968-1591191000-1591203600@www.neilsquire.ca
SUMMARY:National AccessAbility Week Digital Conference: Assistive Technology How To
DESCRIPTION:With so many things now happening online – are you looking for ways to help take in all the information? Maybe assistive technology features can help – join Neil Squire to learn about Assistive Technology! Neil Squire staff will talk about and demonstrate assistive technology and how to use it\, many features which may be in programs you are already using. Features explored will include dictation\, read aloud\, organization\, and various tips and tricks to make better use of the technology you already have and are using.
URL:https://www.neilsquire.ca/event/national-accessability-week-digital-conference-assistive-technology-how-to/
CATEGORIES:Conference,Webinar
ATTACH;FMTTYPE=image/jpeg:https://www.neilsquire.ca/wp-content/uploads/2020/02/National-AccessAbility-Week.jpg
END:VEVENT
END:VCALENDAR