BEGIN:VCALENDAR
VERSION:2.0
PRODID:-//Neil Squire Society - ECPv5.3.1.1//NONSGML v1.0//EN
CALSCALE:GREGORIAN
METHOD:PUBLISH
X-WR-CALNAME:Neil Squire Society
X-ORIGINAL-URL:https://www.neilsquire.ca
X-WR-CALDESC:Events for Neil Squire Society
BEGIN:VTIMEZONE
TZID:America/Vancouver
BEGIN:DAYLIGHT
TZOFFSETFROM:-0800
TZOFFSETTO:-0700
TZNAME:PDT
DTSTART:20200308T100000
END:DAYLIGHT
BEGIN:STANDARD
TZOFFSETFROM:-0700
TZOFFSETTO:-0800
TZNAME:PST
DTSTART:20201101T090000
END:STANDARD
END:VTIMEZONE
BEGIN:VEVENT
DTSTART;TZID=America/Vancouver:20200604T010000
DTEND;TZID=America/Vancouver:20200604T140000
DTSTAMP:20260419T125351
CREATED:20200526T151514Z
LAST-MODIFIED:20200526T162137Z
UID:21897-1591232400-1591279200@www.neilsquire.ca
SUMMARY:NOMCON 2020: 2 Sessions with MMC
DESCRIPTION:NOMCON 2020: Sustainability: Building & Supporting an Ecosystem\n\nThat Sustains Us All\nThe Makers Making Change (new window) team is hosting 2 session you can join! \n\nDIY Assistive Technology Solutions\nFriday June 5\, 1-2 pm PT/4-5pm ET\n\nHosted by Stewart Russell Materials Engineer and Regional Coordinator for Central Canada\n\n\n\n\nOnboarding Volunteer Makers\nThursday June 4\, 1-2 pm PT \nHosted by Zee Kesler our Community Coordinator \n \nOther NOMCON 2020 sessions that peak our interests are:\n\nWed June 3 2PM PST: Minimizing the Environmental Impact of 3D printing\nWed June 3 2PM PST: Demonstrating Impact of Library Makerspaces\nWed June 2 4PM PST: Bridging the Economic Divide with Library Makerspaces\nThurs June 4 3 PST: Grant Writing for Makers\nThurs June 4 3PM PST: Supporting Making at Home and Sustaining a Virtual Maker Community\nFri June 5 2PM PST: Prioritizing Inclusion in Maker Education\nFri June 5 3PM PST: Competitive Youth Robotics and the Maker Community\nSat June 6 2PM PST: Approaches to Gathering Local Government Support for Local\, Distributed PPE Production\n\nRegister for NOMCON 2020 (new window).
URL:https://www.neilsquire.ca/event/nomcon-2020-2-sessions-with-mmc-2/
CATEGORIES:Conference,Makers Making Change,Presentation
ATTACH;FMTTYPE=image/jpeg:https://www.neilsquire.ca/wp-content/uploads/2020/05/Zee-Kesler.jpg
END:VEVENT
END:VCALENDAR