BEGIN:VCALENDAR
VERSION:2.0
PRODID:-//Neil Squire Society - ECPv5.3.1.1//NONSGML v1.0//EN
CALSCALE:GREGORIAN
METHOD:PUBLISH
X-WR-CALNAME:Neil Squire Society
X-ORIGINAL-URL:https://www.neilsquire.ca
X-WR-CALDESC:Events for Neil Squire Society
BEGIN:VTIMEZONE
TZID:America/Winnipeg
BEGIN:DAYLIGHT
TZOFFSETFROM:-0600
TZOFFSETTO:-0500
TZNAME:CDT
DTSTART:20220313T080000
END:DAYLIGHT
BEGIN:STANDARD
TZOFFSETFROM:-0500
TZOFFSETTO:-0600
TZNAME:CST
DTSTART:20221106T070000
END:STANDARD
END:VTIMEZONE
BEGIN:VEVENT
DTSTART;TZID=America/Winnipeg:20220512T130000
DTEND;TZID=America/Winnipeg:20220512T160000
DTSTAMP:20260423T214334
CREATED:20220505T161439Z
LAST-MODIFIED:20220505T161439Z
UID:24899-1652360400-1652371200@www.neilsquire.ca
SUMMARY:North Forge Switch Build Event
DESCRIPTION:Makers Making Change are hosting a workshop in partnership with North Forge\, supported by Women in 3D Printing\, on May 12 2022  @ 1.00pm-4.00pm (CST) \n(this is a private event and by invitation only ) \nJoin us to learn about Assistive Technology and the work of the Neil Squire Society and the Makers Making Change program.  Learn some of the basics of 3D printing using slicr software\, how to design a switch topper and build your own MMC60 Flexure switch. \nThis switch is activated by applying pressure on the top surface. This switch can be connected to any standard AT interface\, and can be used to operate switch adapted toys and with the Xbox Adaptive Controller. The switch can be used on a flat surface or mounted using the 1/4″-20 UNC connection on the bottom. \nThe top button / activation surface is attached to the base by threading it on. This makes it easy to change tops to change color\, labels\, etc. \nFull build kits\, tools and step by step instructions will be supplied to participating Students will be joined by North Forge mentors to help with the switch build. \nMakers Making Change is pleased to have you join us to provide assistive devices to people with disabilities in your community! 
URL:https://www.neilsquire.ca/event/north-forge-switch-build-event/
CATEGORIES:Buildathon,Makers Making Change
ATTACH;FMTTYPE=image/jpeg:https://www.neilsquire.ca/wp-content/uploads/2022/05/MicrosoftTeams-image-6-1.jpg
END:VEVENT
END:VCALENDAR