BEGIN:VCALENDAR
VERSION:2.0
PRODID:-//Neil Squire Society - ECPv5.3.1.1//NONSGML v1.0//EN
CALSCALE:GREGORIAN
METHOD:PUBLISH
X-WR-CALNAME:Neil Squire Society
X-ORIGINAL-URL:https://www.neilsquire.ca
X-WR-CALDESC:Events for Neil Squire Society
BEGIN:VTIMEZONE
TZID:America/Halifax
BEGIN:DAYLIGHT
TZOFFSETFROM:-0400
TZOFFSETTO:-0300
TZNAME:ADT
DTSTART:20190310T060000
END:DAYLIGHT
BEGIN:STANDARD
TZOFFSETFROM:-0300
TZOFFSETTO:-0400
TZNAME:AST
DTSTART:20191103T050000
END:STANDARD
END:VTIMEZONE
BEGIN:VEVENT
DTSTART;TZID=America/Halifax:20191102T090000
DTEND;TZID=America/Halifax:20191102T160000
DTSTAMP:20260425T032557
CREATED:20190924T195341Z
LAST-MODIFIED:20191002T155928Z
UID:19310-1572685200-1572710400@www.neilsquire.ca
SUMMARY:NSSOT LipSync Buildathon
DESCRIPTION:Makers Making Change’s Atlantic regional team will be hosting a special buildathon event for the Nova Scotia Society for Occupational Therapists on October 5\, 2019 in Dartmouth\, NS. A total of 40 builders\, working in teams\, will create Maker’s Making Change’s LipSync sip-and-puff assistive device to be distributed to disability professionals and people with disabilities.
URL:https://www.neilsquire.ca/event/nssot-lipsync-buildathon/
LOCATION:Double Tree Hilton Dartmouth\, 101 Wyse Road\, Dartmouth\, NS\, B3A 1L9\, Canada
CATEGORIES:Makers Making Change
ATTACH;FMTTYPE=image/jpeg:https://www.neilsquire.ca/wp-content/uploads/2019/09/NSSOT_logo_web.jpg
END:VEVENT
END:VCALENDAR