BEGIN:VCALENDAR
VERSION:2.0
PRODID:-//Neil Squire Society - ECPv5.3.1.1//NONSGML v1.0//EN
CALSCALE:GREGORIAN
METHOD:PUBLISH
X-WR-CALNAME:Neil Squire Society
X-ORIGINAL-URL:https://www.neilsquire.ca
X-WR-CALDESC:Events for Neil Squire Society
BEGIN:VTIMEZONE
TZID:America/Vancouver
BEGIN:DAYLIGHT
TZOFFSETFROM:-0800
TZOFFSETTO:-0700
TZNAME:PDT
DTSTART:20220313T100000
END:DAYLIGHT
BEGIN:STANDARD
TZOFFSETFROM:-0700
TZOFFSETTO:-0800
TZNAME:PST
DTSTART:20221106T090000
END:STANDARD
END:VTIMEZONE
BEGIN:VEVENT
DTSTART;TZID=America/Vancouver:20220906T113000
DTEND;TZID=America/Vancouver:20220906T153000
DTSTAMP:20260423T140624
CREATED:20220829T152600Z
LAST-MODIFIED:20220829T152600Z
UID:25503-1662463800-1662478200@www.neilsquire.ca
SUMMARY:Okanagan College Penticton Campus Kick Off to Orientation
DESCRIPTION:We’ll be at Okanagan College Penticton Campus for their Kick Off to Orientation event\, welcoming students to the new school year. \nAll Penticton campus students are invited to the outside lawn between 11:30 a.m. and 3:30 p.m. for their main one-day welcome event. Learn about your campus\, meet other students and staff\, enjoy a free meal\, have a chance to win prizes\, and chat with College staff and community partners.
URL:https://www.neilsquire.ca/event/okanagan-college-penticton-campus-kick-off-to-orientation/
LOCATION:Okanagan College Penticton Campus\, 583 Duncan Ave W\, Penticton\, BC\, V2A 8E1\, Canada
CATEGORIES:Community Event
ATTACH;FMTTYPE=image/png:https://www.neilsquire.ca/wp-content/uploads/2022/08/ocorientationday2022_events_600x400.png
END:VEVENT
END:VCALENDAR