BEGIN:VCALENDAR
VERSION:2.0
PRODID:-//Neil Squire Society - ECPv5.3.1.1//NONSGML v1.0//EN
CALSCALE:GREGORIAN
METHOD:PUBLISH
X-WR-CALNAME:Neil Squire Society
X-ORIGINAL-URL:https://www.neilsquire.ca
X-WR-CALDESC:Events for Neil Squire Society
BEGIN:VTIMEZONE
TZID:America/Vancouver
BEGIN:DAYLIGHT
TZOFFSETFROM:-0800
TZOFFSETTO:-0700
TZNAME:PDT
DTSTART:20260308T100000
END:DAYLIGHT
BEGIN:STANDARD
TZOFFSETFROM:-0700
TZOFFSETTO:-0800
TZNAME:PST
DTSTART:20261101T090000
END:STANDARD
END:VTIMEZONE
BEGIN:VEVENT
DTSTART;TZID=America/Vancouver:20260619T100000
DTEND;TZID=America/Vancouver:20260619T140000
DTSTAMP:20260423T091022
CREATED:20260422T181906Z
LAST-MODIFIED:20260422T181906Z
UID:31667-1781863200-1781877600@www.neilsquire.ca
SUMMARY:Regina Anniversary Barbeque
DESCRIPTION:Please join us at our Regina office for free hot dogs\, drinks and chips at our 42nd Anniversary Barbeque. Members of the Regina Police Service Community Engagement Unit will be helping us serve lunch. \n\n\n\nDate: June 19th\, 2026\nTime: 10am to 2pm\nLocation: Neil Squire Prairie Region Office parking lot on the North East corner of Broad Street & 8th Avenue\, Regina \n\n\n\nQuestions? Please contact Nikki at nikkil@neilsquire.ca \n\n\n 
URL:https://www.neilsquire.ca/event/regina-anniversary-barbeque/
LOCATION:Neil Squire Prairie Regional Office\, 1353 Broad Street\, Regina\, Saskatchewan\, S4R 7V1\, Canada
CATEGORIES:Community Event
ATTACH;FMTTYPE=image/jpeg:https://www.neilsquire.ca/wp-content/uploads/2026/04/2026-BBQ-Regina-Graphic-1000-x-1000-px.jpg
END:VEVENT
END:VCALENDAR