BEGIN:VCALENDAR
VERSION:2.0
PRODID:-//Neil Squire Society - ECPv5.3.1.1//NONSGML v1.0//EN
CALSCALE:GREGORIAN
METHOD:PUBLISH
X-WR-CALNAME:Neil Squire Society
X-ORIGINAL-URL:https://www.neilsquire.ca
X-WR-CALDESC:Events for Neil Squire Society
BEGIN:VTIMEZONE
TZID:America/Halifax
BEGIN:DAYLIGHT
TZOFFSETFROM:-0400
TZOFFSETTO:-0300
TZNAME:ADT
DTSTART:20250309T060000
END:DAYLIGHT
BEGIN:STANDARD
TZOFFSETFROM:-0300
TZOFFSETTO:-0400
TZNAME:AST
DTSTART:20251102T050000
END:STANDARD
END:VTIMEZONE
BEGIN:VEVENT
DTSTART;TZID=America/Halifax:20250723T120000
DTEND;TZID=America/Halifax:20250723T160000
DTSTAMP:20260424T032925
CREATED:20250714T160153Z
LAST-MODIFIED:20250714T160153Z
UID:30436-1753272000-1753286400@www.neilsquire.ca
SUMMARY:Switch and Toy Build Event with SHAD UNB
DESCRIPTION:Makers Making Change is hosting a switch and toy build event with SHAD UNB.
URL:https://www.neilsquire.ca/event/switch-and-toy-build-event-with-shad-unb/
CATEGORIES:Buildathon,Makers Making Change
ATTACH;FMTTYPE=image/jpeg:https://www.neilsquire.ca/wp-content/uploads/2024/07/IMG_8157-Copy1-scaled.jpg
END:VEVENT
END:VCALENDAR