BEGIN:VCALENDAR
VERSION:2.0
PRODID:-//Neil Squire Society - ECPv5.3.1.1//NONSGML v1.0//EN
CALSCALE:GREGORIAN
METHOD:PUBLISH
X-WR-CALNAME:Neil Squire Society
X-ORIGINAL-URL:https://www.neilsquire.ca
X-WR-CALDESC:Events for Neil Squire Society
BEGIN:VTIMEZONE
TZID:America/Halifax
BEGIN:DAYLIGHT
TZOFFSETFROM:-0400
TZOFFSETTO:-0300
TZNAME:ADT
DTSTART:20230312T060000
END:DAYLIGHT
BEGIN:STANDARD
TZOFFSETFROM:-0300
TZOFFSETTO:-0400
TZNAME:AST
DTSTART:20231105T050000
END:STANDARD
END:VTIMEZONE
BEGIN:VEVENT
DTSTART;TZID=America/Halifax:20230413T100000
DTEND;TZID=America/Halifax:20230413T120000
DTSTAMP:20260425T033353
CREATED:20230411T225226Z
LAST-MODIFIED:20230411T225226Z
UID:26642-1681380000-1681387200@www.neilsquire.ca
SUMMARY:Switch Build with AT & AAC Teachers
DESCRIPTION:Makers Making Change is excited to have the opportunity to discuss assistive technology and the Makers Making Change program with teachers from Eastern Nova Scotia. Teachers will have the chance to learn hands on making skills that include soldering and 3D printing\, and more about MMC devices.
URL:https://www.neilsquire.ca/event/switch-build-with-at-aac-teachers/
CATEGORIES:Buildathon,Community Event,Makers Making Change
ATTACH;FMTTYPE=image/png:https://www.neilsquire.ca/wp-content/uploads/2023/04/MMC-Event-Banner-25.png
END:VEVENT
END:VCALENDAR