BEGIN:VCALENDAR
VERSION:2.0
PRODID:-//Neil Squire Society - ECPv5.3.1.1//NONSGML v1.0//EN
CALSCALE:GREGORIAN
METHOD:PUBLISH
X-WR-CALNAME:Neil Squire Society
X-ORIGINAL-URL:https://www.neilsquire.ca
X-WR-CALDESC:Events for Neil Squire Society
BEGIN:VTIMEZONE
TZID:America/Halifax
BEGIN:DAYLIGHT
TZOFFSETFROM:-0400
TZOFFSETTO:-0300
TZNAME:ADT
DTSTART:20220313T060000
END:DAYLIGHT
BEGIN:STANDARD
TZOFFSETFROM:-0300
TZOFFSETTO:-0400
TZNAME:AST
DTSTART:20221106T050000
END:STANDARD
END:VTIMEZONE
BEGIN:VEVENT
DTSTART;TZID=America/Halifax:20220601T123000
DTEND;TZID=America/Halifax:20220601T143000
DTSTAMP:20260419T113715
CREATED:20220516T204718Z
LAST-MODIFIED:20220516T210228Z
UID:24955-1654086600-1654093800@www.neilsquire.ca
SUMMARY:Switch Build with Harold Peterson Middle School
DESCRIPTION:Makers Making Change is excited to build assistive switches with students from Harold Peterson Middle School in Oromocto\, New Brunswick! \nIn collaboration with New Brunswick’s Department of Education and Early Childhood Development and Disability Awareness Week\, 15 students will be lead in instruction from our Makers Making Change staff\, learn all about assistive technology\, and build assistive switches which will then be donated throughout New Brunswick and Atlantic Canada.
URL:https://www.neilsquire.ca/event/switch-build-with-harold-peterson-middle-school/
CATEGORIES:Buildathon,Community Event,Makers Making Change
ATTACH;FMTTYPE=image/jpeg:https://www.neilsquire.ca/wp-content/uploads/2022/05/HaroldPetersonMS_Banner.jpg
END:VEVENT
END:VCALENDAR