BEGIN:VCALENDAR
VERSION:2.0
PRODID:-//Neil Squire Society - ECPv5.3.1.1//NONSGML v1.0//EN
CALSCALE:GREGORIAN
METHOD:PUBLISH
X-WR-CALNAME:Neil Squire Society
X-ORIGINAL-URL:https://www.neilsquire.ca
X-WR-CALDESC:Events for Neil Squire Society
BEGIN:VTIMEZONE
TZID:America/Vancouver
BEGIN:DAYLIGHT
TZOFFSETFROM:-0800
TZOFFSETTO:-0700
TZNAME:PDT
DTSTART:20220313T100000
END:DAYLIGHT
BEGIN:STANDARD
TZOFFSETFROM:-0700
TZOFFSETTO:-0800
TZNAME:PST
DTSTART:20221106T090000
END:STANDARD
END:VTIMEZONE
BEGIN:VEVENT
DTSTART;TZID=America/Vancouver:20221124T083000
DTEND;TZID=America/Vancouver:20221124T153000
DTSTAMP:20260419T050511
CREATED:20221116T164354Z
LAST-MODIFIED:20221116T164354Z
UID:25862-1669278600-1669303800@www.neilsquire.ca
SUMMARY:Tech in Jobs and Jobs in Tech
DESCRIPTION:Focus Disability Network are hosting a conference for service providers who work with people with disabilities\, featuring insights from specialists in the technology field. See the agenda (new window) and presenters’ bios (new window). \n1) Garth Johnson\, Meticulon and Auticon: Keynote Speaker \n\nCapturing and harnessing the skills of people with disabilities to use in the tech world\n\n2) Dr. Rachelle Hole\, Professor UBC Okanagan and Sandra Polushin\, TYDE Research Assistant \n\nThe BC Transitioning Youth with Disabilities and Empowerment (TYDE) Project\n\n3) Jody Dickerson and Gordon Watt\, Neil Squire Society \n\nA hands-on interactive display of technology supports for work and home\n\n4) Kim Donaldson\, Fable \n\nFable Pathways\, a skill-building program for people with disabilities interested in working in the tech sector.\n\n5) Ling Huang\, Technology North \n\nTechnology North’s experience using assistive tech and the framework to address the challenges more holistically\n\n6) Aaron Davis\, Mission Community Skills Centre Society \n\nZooming into the future of virtual service delivery
URL:https://www.neilsquire.ca/event/tech-in-jobs-and-jobs-in-tech/
LOCATION:Church in the Valley\, 23589 Old Yale Road\, Langley City\, BC\, Canada
CATEGORIES:Conference
ATTACH;FMTTYPE=image/jpeg:https://www.neilsquire.ca/wp-content/uploads/2022/11/Focus-Event.jpg
ORGANIZER;CN="Focus%20Disability%20Network":MAILTO:info@focusdisability.ca
END:VEVENT
END:VCALENDAR